BEGIN:VCALENDAR
VERSION:2.0
PRODID:-//Sunlight Lake Worth - ECPv6.15.20//NONSGML v1.0//EN
CALSCALE:GREGORIAN
METHOD:PUBLISH
X-WR-CALNAME:Sunlight Lake Worth
X-ORIGINAL-URL:https://lakeworth.sunlightchurch.com
X-WR-CALDESC:Events for Sunlight Lake Worth
REFRESH-INTERVAL;VALUE=DURATION:PT1H
X-Robots-Tag:noindex
X-PUBLISHED-TTL:PT1H
BEGIN:VTIMEZONE
TZID:America/New_York
BEGIN:DAYLIGHT
TZOFFSETFROM:-0500
TZOFFSETTO:-0400
TZNAME:EDT
DTSTART:20240310T070000
END:DAYLIGHT
BEGIN:STANDARD
TZOFFSETFROM:-0400
TZOFFSETTO:-0500
TZNAME:EST
DTSTART:20241103T060000
END:STANDARD
BEGIN:DAYLIGHT
TZOFFSETFROM:-0500
TZOFFSETTO:-0400
TZNAME:EDT
DTSTART:20250309T070000
END:DAYLIGHT
BEGIN:STANDARD
TZOFFSETFROM:-0400
TZOFFSETTO:-0500
TZNAME:EST
DTSTART:20251102T060000
END:STANDARD
BEGIN:DAYLIGHT
TZOFFSETFROM:-0500
TZOFFSETTO:-0400
TZNAME:EDT
DTSTART:20260308T070000
END:DAYLIGHT
BEGIN:STANDARD
TZOFFSETFROM:-0400
TZOFFSETTO:-0500
TZNAME:EST
DTSTART:20261101T060000
END:STANDARD
END:VTIMEZONE
BEGIN:VEVENT
DTSTART;TZID=America/New_York:20250903T190000
DTEND;TZID=America/New_York:20250903T203000
DTSTAMP:20260423T130554
CREATED:20231116T134924Z
LAST-MODIFIED:20250615T220150Z
UID:10001280-1756926000-1756931400@lakeworth.sunlightchurch.com
SUMMARY:Alcoholics Anonymous
DESCRIPTION:
URL:https://lakeworth.sunlightchurch.com/calendar/alcoholics-anonymous-97/
END:VEVENT
BEGIN:VEVENT
DTSTART;TZID=America/New_York:20250903T190000
DTEND;TZID=America/New_York:20250903T200000
DTSTAMP:20260423T130554
CREATED:20250410T180030Z
LAST-MODIFIED:20250615T220150Z
UID:10001827-1756926000-1756929600@lakeworth.sunlightchurch.com
SUMMARY:Men's Group
DESCRIPTION:
URL:https://lakeworth.sunlightchurch.com/calendar/mens-group-296/
END:VEVENT
BEGIN:VEVENT
DTSTART;TZID=America/New_York:20250903T190000
DTEND;TZID=America/New_York:20250903T200000
DTSTAMP:20260423T130554
CREATED:20241113T171605Z
LAST-MODIFIED:20250408T173840Z
UID:10001541-1756926000-1756929600@lakeworth.sunlightchurch.com
SUMMARY:Men's Group
DESCRIPTION:
URL:https://lakeworth.sunlightchurch.com/calendar/mens-group-173/
END:VEVENT
BEGIN:VEVENT
DTSTART;TZID=America/New_York:20250902T190000
DTEND;TZID=America/New_York:20250902T203000
DTSTAMP:20260423T130554
CREATED:20240327T125334Z
LAST-MODIFIED:20250615T220150Z
UID:10001407-1756839600-1756845000@lakeworth.sunlightchurch.com
SUMMARY:Faith Alive - Women's Bible Study - Upper Room
DESCRIPTION:
URL:https://lakeworth.sunlightchurch.com/calendar/faith-alive-womens-bible-study-upper-room-85/
LOCATION:1325 N Federal Hwy\, 1700 Lake Worth Rd\, Lake Worth\, FL\, United States
GEO:26.616678;-80.065083
X-APPLE-STRUCTURED-LOCATION;VALUE=URI;X-ADDRESS=1325 N Federal Hwy 1700 Lake Worth Rd Lake Worth FL United States;X-APPLE-RADIUS=500;X-TITLE=1700 Lake Worth Rd:geo:-80.065083,26.616678
END:VEVENT
BEGIN:VEVENT
DTSTART;TZID=America/New_York:20250831T111500
DTEND;TZID=America/New_York:20250831T121500
DTSTAMP:20260423T130554
CREATED:20250409T174726Z
LAST-MODIFIED:20250615T220150Z
UID:10001720-1756638900-1756642500@lakeworth.sunlightchurch.com
SUMMARY:Sunlight Espanol
DESCRIPTION:
URL:https://lakeworth.sunlightchurch.com/calendar/sunlight-espanol-21/
LOCATION:1325 N A Street
END:VEVENT
BEGIN:VEVENT
DTSTART;TZID=America/New_York:20250831T100000
DTEND;TZID=America/New_York:20250831T110000
DTSTAMP:20260423T130554
CREATED:20231116T134924Z
LAST-MODIFIED:20250615T220150Z
UID:10001279-1756634400-1756638000@lakeworth.sunlightchurch.com
SUMMARY:Worship Service
DESCRIPTION:
URL:https://lakeworth.sunlightchurch.com/calendar/worship-service-95/
END:VEVENT
BEGIN:VEVENT
DTSTART;TZID=America/New_York:20250828T190000
DTEND;TZID=America/New_York:20250828T200000
DTSTAMP:20260423T130554
CREATED:20250409T174726Z
LAST-MODIFIED:20250615T220150Z
UID:10001718-1756407600-1756411200@lakeworth.sunlightchurch.com
SUMMARY:Recovery Church
DESCRIPTION:
URL:https://lakeworth.sunlightchurch.com/calendar/recovery-church-21/
LOCATION:1325 N A Street
END:VEVENT
BEGIN:VEVENT
DTSTART;TZID=America/New_York:20250828T190000
DTEND;TZID=America/New_York:20250828T200000
DTSTAMP:20260423T130554
CREATED:20250409T174726Z
LAST-MODIFIED:20250409T174726Z
UID:10001719-1756407600-1756411200@lakeworth.sunlightchurch.com
SUMMARY:Men's Group
DESCRIPTION:
URL:https://lakeworth.sunlightchurch.com/calendar/mens-group-247/
END:VEVENT
BEGIN:VEVENT
DTSTART;TZID=America/New_York:20250828T190000
DTEND;TZID=America/New_York:20250828T200000
DTSTAMP:20260423T130554
CREATED:20231116T134924Z
LAST-MODIFIED:20241112T170331Z
UID:10001278-1756407600-1756411200@lakeworth.sunlightchurch.com
SUMMARY:Men's Group
DESCRIPTION:
URL:https://lakeworth.sunlightchurch.com/calendar/mens-group-96/
END:VEVENT
BEGIN:VEVENT
DTSTART;TZID=America/New_York:20250827T190000
DTEND;TZID=America/New_York:20250827T203000
DTSTAMP:20260423T130554
CREATED:20231116T134923Z
LAST-MODIFIED:20250615T220150Z
UID:10001277-1756321200-1756326600@lakeworth.sunlightchurch.com
SUMMARY:Alcoholics Anonymous
DESCRIPTION:
URL:https://lakeworth.sunlightchurch.com/calendar/alcoholics-anonymous-96/
END:VEVENT
BEGIN:VEVENT
DTSTART;TZID=America/New_York:20250827T190000
DTEND;TZID=America/New_York:20250827T200000
DTSTAMP:20260423T130554
CREATED:20250410T180029Z
LAST-MODIFIED:20250615T220150Z
UID:10001826-1756321200-1756324800@lakeworth.sunlightchurch.com
SUMMARY:Men's Group
DESCRIPTION:
URL:https://lakeworth.sunlightchurch.com/calendar/mens-group-295/
END:VEVENT
BEGIN:VEVENT
DTSTART;TZID=America/New_York:20250827T190000
DTEND;TZID=America/New_York:20250827T200000
DTSTAMP:20260423T130554
CREATED:20241113T171604Z
LAST-MODIFIED:20250408T173840Z
UID:10001540-1756321200-1756324800@lakeworth.sunlightchurch.com
SUMMARY:Men's Group
DESCRIPTION:
URL:https://lakeworth.sunlightchurch.com/calendar/mens-group-172/
END:VEVENT
BEGIN:VEVENT
DTSTART;TZID=America/New_York:20250826T190000
DTEND;TZID=America/New_York:20250826T203000
DTSTAMP:20260423T130554
CREATED:20240320T114513Z
LAST-MODIFIED:20250615T220150Z
UID:10001406-1756234800-1756240200@lakeworth.sunlightchurch.com
SUMMARY:Faith Alive - Women's Bible Study - Upper Room
DESCRIPTION:
URL:https://lakeworth.sunlightchurch.com/calendar/faith-alive-womens-bible-study-upper-room-84/
LOCATION:1325 N Federal Hwy\, 1700 Lake Worth Rd\, Lake Worth\, FL\, United States
GEO:26.616678;-80.065083
X-APPLE-STRUCTURED-LOCATION;VALUE=URI;X-ADDRESS=1325 N Federal Hwy 1700 Lake Worth Rd Lake Worth FL United States;X-APPLE-RADIUS=500;X-TITLE=1700 Lake Worth Rd:geo:-80.065083,26.616678
END:VEVENT
BEGIN:VEVENT
DTSTART;TZID=America/New_York:20250824T111500
DTEND;TZID=America/New_York:20250824T121500
DTSTAMP:20260423T130554
CREATED:20250409T174726Z
LAST-MODIFIED:20250615T220138Z
UID:10001717-1756034100-1756037700@lakeworth.sunlightchurch.com
SUMMARY:Sunlight Espanol
DESCRIPTION:
URL:https://lakeworth.sunlightchurch.com/calendar/sunlight-espanol-20/
LOCATION:1325 N A Street
END:VEVENT
BEGIN:VEVENT
DTSTART;TZID=America/New_York:20250824T100000
DTEND;TZID=America/New_York:20250824T110000
DTSTAMP:20260423T130554
CREATED:20231116T134923Z
LAST-MODIFIED:20250615T220138Z
UID:10001276-1756029600-1756033200@lakeworth.sunlightchurch.com
SUMMARY:Worship Service
DESCRIPTION:
URL:https://lakeworth.sunlightchurch.com/calendar/worship-service-94/
END:VEVENT
BEGIN:VEVENT
DTSTART;TZID=America/New_York:20250821T190000
DTEND;TZID=America/New_York:20250821T200000
DTSTAMP:20260423T130554
CREATED:20250409T174725Z
LAST-MODIFIED:20250615T220138Z
UID:10001715-1755802800-1755806400@lakeworth.sunlightchurch.com
SUMMARY:Recovery Church
DESCRIPTION:
URL:https://lakeworth.sunlightchurch.com/calendar/recovery-church-20/
LOCATION:1325 N A Street
END:VEVENT
BEGIN:VEVENT
DTSTART;TZID=America/New_York:20250821T190000
DTEND;TZID=America/New_York:20250821T200000
DTSTAMP:20260423T130554
CREATED:20250409T174725Z
LAST-MODIFIED:20250409T174725Z
UID:10001716-1755802800-1755806400@lakeworth.sunlightchurch.com
SUMMARY:Men's Group
DESCRIPTION:
URL:https://lakeworth.sunlightchurch.com/calendar/mens-group-246/
END:VEVENT
BEGIN:VEVENT
DTSTART;TZID=America/New_York:20250821T190000
DTEND;TZID=America/New_York:20250821T200000
DTSTAMP:20260423T130554
CREATED:20231116T134923Z
LAST-MODIFIED:20241112T170331Z
UID:10001275-1755802800-1755806400@lakeworth.sunlightchurch.com
SUMMARY:Men's Group
DESCRIPTION:
URL:https://lakeworth.sunlightchurch.com/calendar/mens-group-95/
END:VEVENT
BEGIN:VEVENT
DTSTART;TZID=America/New_York:20250820T190000
DTEND;TZID=America/New_York:20250820T203000
DTSTAMP:20260423T130554
CREATED:20231116T134923Z
LAST-MODIFIED:20250615T220138Z
UID:10001274-1755716400-1755721800@lakeworth.sunlightchurch.com
SUMMARY:Alcoholics Anonymous
DESCRIPTION:
URL:https://lakeworth.sunlightchurch.com/calendar/alcoholics-anonymous-95/
END:VEVENT
BEGIN:VEVENT
DTSTART;TZID=America/New_York:20250820T190000
DTEND;TZID=America/New_York:20250820T200000
DTSTAMP:20260423T130554
CREATED:20250410T180029Z
LAST-MODIFIED:20250615T220138Z
UID:10001825-1755716400-1755720000@lakeworth.sunlightchurch.com
SUMMARY:Men's Group
DESCRIPTION:
URL:https://lakeworth.sunlightchurch.com/calendar/mens-group-294/
END:VEVENT
BEGIN:VEVENT
DTSTART;TZID=America/New_York:20250820T190000
DTEND;TZID=America/New_York:20250820T200000
DTSTAMP:20260423T130554
CREATED:20241113T171604Z
LAST-MODIFIED:20250408T173839Z
UID:10001539-1755716400-1755720000@lakeworth.sunlightchurch.com
SUMMARY:Men's Group
DESCRIPTION:
URL:https://lakeworth.sunlightchurch.com/calendar/mens-group-171/
END:VEVENT
BEGIN:VEVENT
DTSTART;TZID=America/New_York:20250819T190000
DTEND;TZID=America/New_York:20250819T203000
DTSTAMP:20260423T130554
CREATED:20240313T103935Z
LAST-MODIFIED:20250615T220138Z
UID:10001405-1755630000-1755635400@lakeworth.sunlightchurch.com
SUMMARY:Faith Alive - Women's Bible Study - Upper Room
DESCRIPTION:
URL:https://lakeworth.sunlightchurch.com/calendar/faith-alive-womens-bible-study-upper-room-83/
LOCATION:1325 N Federal Hwy\, 1700 Lake Worth Rd\, Lake Worth\, FL\, United States
GEO:26.616678;-80.065083
X-APPLE-STRUCTURED-LOCATION;VALUE=URI;X-ADDRESS=1325 N Federal Hwy 1700 Lake Worth Rd Lake Worth FL United States;X-APPLE-RADIUS=500;X-TITLE=1700 Lake Worth Rd:geo:-80.065083,26.616678
END:VEVENT
BEGIN:VEVENT
DTSTART;TZID=America/New_York:20250817T111500
DTEND;TZID=America/New_York:20250817T121500
DTSTAMP:20260423T130554
CREATED:20250409T174725Z
LAST-MODIFIED:20250615T220137Z
UID:10001714-1755429300-1755432900@lakeworth.sunlightchurch.com
SUMMARY:Sunlight Espanol
DESCRIPTION:
URL:https://lakeworth.sunlightchurch.com/calendar/sunlight-espanol-19/
LOCATION:1325 N A Street
END:VEVENT
BEGIN:VEVENT
DTSTART;TZID=America/New_York:20250817T100000
DTEND;TZID=America/New_York:20250817T110000
DTSTAMP:20260423T130554
CREATED:20231116T134923Z
LAST-MODIFIED:20250615T220137Z
UID:10001273-1755424800-1755428400@lakeworth.sunlightchurch.com
SUMMARY:Worship Service
DESCRIPTION:
URL:https://lakeworth.sunlightchurch.com/calendar/worship-service-93/
END:VEVENT
BEGIN:VEVENT
DTSTART;TZID=America/New_York:20250814T190000
DTEND;TZID=America/New_York:20250814T200000
DTSTAMP:20260423T130554
CREATED:20250409T174725Z
LAST-MODIFIED:20250409T174725Z
UID:10001712-1755198000-1755201600@lakeworth.sunlightchurch.com
SUMMARY:Men's Group
DESCRIPTION:
URL:https://lakeworth.sunlightchurch.com/calendar/mens-group-245/
END:VEVENT
BEGIN:VEVENT
DTSTART;TZID=America/New_York:20250814T190000
DTEND;TZID=America/New_York:20250814T200000
DTSTAMP:20260423T130554
CREATED:20250409T174725Z
LAST-MODIFIED:20250615T220137Z
UID:10001713-1755198000-1755201600@lakeworth.sunlightchurch.com
SUMMARY:Recovery Church
DESCRIPTION:
URL:https://lakeworth.sunlightchurch.com/calendar/recovery-church-19/
LOCATION:1325 N A Street
END:VEVENT
BEGIN:VEVENT
DTSTART;TZID=America/New_York:20250814T190000
DTEND;TZID=America/New_York:20250814T200000
DTSTAMP:20260423T130554
CREATED:20231116T134923Z
LAST-MODIFIED:20241112T170330Z
UID:10001272-1755198000-1755201600@lakeworth.sunlightchurch.com
SUMMARY:Men's Group
DESCRIPTION:
URL:https://lakeworth.sunlightchurch.com/calendar/mens-group-94/
END:VEVENT
BEGIN:VEVENT
DTSTART;TZID=America/New_York:20250813T190000
DTEND;TZID=America/New_York:20250813T203000
DTSTAMP:20260423T130554
CREATED:20231116T134923Z
LAST-MODIFIED:20250615T220124Z
UID:10001271-1755111600-1755117000@lakeworth.sunlightchurch.com
SUMMARY:Alcoholics Anonymous
DESCRIPTION:
URL:https://lakeworth.sunlightchurch.com/calendar/alcoholics-anonymous-94/
END:VEVENT
BEGIN:VEVENT
DTSTART;TZID=America/New_York:20250813T190000
DTEND;TZID=America/New_York:20250813T200000
DTSTAMP:20260423T130554
CREATED:20250410T180028Z
LAST-MODIFIED:20250615T220137Z
UID:10001824-1755111600-1755115200@lakeworth.sunlightchurch.com
SUMMARY:Men's Group
DESCRIPTION:
URL:https://lakeworth.sunlightchurch.com/calendar/mens-group-293/
END:VEVENT
BEGIN:VEVENT
DTSTART;TZID=America/New_York:20250813T190000
DTEND;TZID=America/New_York:20250813T200000
DTSTAMP:20260423T130554
CREATED:20241113T171603Z
LAST-MODIFIED:20250408T173839Z
UID:10001538-1755111600-1755115200@lakeworth.sunlightchurch.com
SUMMARY:Men's Group
DESCRIPTION:
URL:https://lakeworth.sunlightchurch.com/calendar/mens-group-170/
END:VEVENT
END:VCALENDAR