BEGIN:VCALENDAR
VERSION:2.0
PRODID:-//Sunlight Lake Worth - ECPv6.15.13.1//NONSGML v1.0//EN
CALSCALE:GREGORIAN
METHOD:PUBLISH
X-WR-CALNAME:Sunlight Lake Worth
X-ORIGINAL-URL:https://lakeworth.sunlightchurch.com
X-WR-CALDESC:Events for Sunlight Lake Worth
REFRESH-INTERVAL;VALUE=DURATION:PT1H
X-Robots-Tag:noindex
X-PUBLISHED-TTL:PT1H
BEGIN:VTIMEZONE
TZID:America/New_York
BEGIN:DAYLIGHT
TZOFFSETFROM:-0500
TZOFFSETTO:-0400
TZNAME:EDT
DTSTART:20240310T070000
END:DAYLIGHT
BEGIN:STANDARD
TZOFFSETFROM:-0400
TZOFFSETTO:-0500
TZNAME:EST
DTSTART:20241103T060000
END:STANDARD
BEGIN:DAYLIGHT
TZOFFSETFROM:-0500
TZOFFSETTO:-0400
TZNAME:EDT
DTSTART:20250309T070000
END:DAYLIGHT
BEGIN:STANDARD
TZOFFSETFROM:-0400
TZOFFSETTO:-0500
TZNAME:EST
DTSTART:20251102T060000
END:STANDARD
BEGIN:DAYLIGHT
TZOFFSETFROM:-0500
TZOFFSETTO:-0400
TZNAME:EDT
DTSTART:20260308T070000
END:DAYLIGHT
BEGIN:STANDARD
TZOFFSETFROM:-0400
TZOFFSETTO:-0500
TZNAME:EST
DTSTART:20261101T060000
END:STANDARD
END:VTIMEZONE
BEGIN:VEVENT
DTSTART;TZID=America/New_York:20250227T190000
DTEND;TZID=America/New_York:20250227T200000
DTSTAMP:20260419T153417
CREATED:20231116T134913Z
LAST-MODIFIED:20241112T170308Z
UID:9744-1740682800-1740686400@lakeworth.sunlightchurch.com
SUMMARY:Men's Group
DESCRIPTION:
URL:https://lakeworth.sunlightchurch.com/calendar/mens-group-70/
LOCATION:FL
END:VEVENT
BEGIN:VEVENT
DTSTART;TZID=America/New_York:20250226T190000
DTEND;TZID=America/New_York:20250226T203000
DTSTAMP:20260419T153417
CREATED:20231116T134912Z
LAST-MODIFIED:20250226T174140Z
UID:9743-1740596400-1740601800@lakeworth.sunlightchurch.com
SUMMARY:Alcoholics Anonymous
DESCRIPTION:
URL:https://lakeworth.sunlightchurch.com/calendar/alcoholics-anonymous-70/
LOCATION:FL
END:VEVENT
BEGIN:VEVENT
DTSTART;TZID=America/New_York:20250226T190000
DTEND;TZID=America/New_York:20250226T200000
DTSTAMP:20260419T153417
CREATED:20241113T171549Z
LAST-MODIFIED:20250226T174141Z
UID:10928-1740596400-1740600000@lakeworth.sunlightchurch.com
SUMMARY:Men's Group
DESCRIPTION:
URL:https://lakeworth.sunlightchurch.com/calendar/mens-group-146/
LOCATION:FL
END:VEVENT
BEGIN:VEVENT
DTSTART;TZID=America/New_York:20250225T190000
DTEND;TZID=America/New_York:20250225T203000
DTSTAMP:20260419T153417
CREATED:20240111T202057Z
LAST-MODIFIED:20250225T164512Z
UID:10256-1740510000-1740515400@lakeworth.sunlightchurch.com
SUMMARY:Faith Alive - Women's Bible Study - Upper Room
DESCRIPTION:
URL:https://lakeworth.sunlightchurch.com/calendar/faith-alive-womens-bible-study-upper-room-58/
LOCATION:1325 N Federal Hwy\, 1700 Lake Worth Rd\, Lake Worth\, FL\, United States
END:VEVENT
BEGIN:VEVENT
DTSTART;TZID=America/New_York:20250223T100000
DTEND;TZID=America/New_York:20250223T110000
DTSTAMP:20260419T153417
CREATED:20231116T134912Z
LAST-MODIFIED:20250222T164518Z
UID:9742-1740304800-1740308400@lakeworth.sunlightchurch.com
SUMMARY:Worship Service
DESCRIPTION:
URL:https://lakeworth.sunlightchurch.com/calendar/worship-service-68/
LOCATION:FL
END:VEVENT
BEGIN:VEVENT
DTSTART;TZID=America/New_York:20250220T190000
DTEND;TZID=America/New_York:20250220T200000
DTSTAMP:20260419T153417
CREATED:20231116T134912Z
LAST-MODIFIED:20241112T170307Z
UID:9741-1740078000-1740081600@lakeworth.sunlightchurch.com
SUMMARY:Men's Group
DESCRIPTION:
URL:https://lakeworth.sunlightchurch.com/calendar/mens-group-69/
LOCATION:FL
END:VEVENT
BEGIN:VEVENT
DTSTART;TZID=America/New_York:20250219T190000
DTEND;TZID=America/New_York:20250219T203000
DTSTAMP:20260419T153417
CREATED:20231116T134912Z
LAST-MODIFIED:20250219T155735Z
UID:9740-1739991600-1739997000@lakeworth.sunlightchurch.com
SUMMARY:Alcoholics Anonymous
DESCRIPTION:
URL:https://lakeworth.sunlightchurch.com/calendar/alcoholics-anonymous-69/
LOCATION:FL
END:VEVENT
BEGIN:VEVENT
DTSTART;TZID=America/New_York:20250219T190000
DTEND;TZID=America/New_York:20250219T200000
DTSTAMP:20260419T153417
CREATED:20241113T171548Z
LAST-MODIFIED:20250219T155735Z
UID:10927-1739991600-1739995200@lakeworth.sunlightchurch.com
SUMMARY:Men's Group
DESCRIPTION:
URL:https://lakeworth.sunlightchurch.com/calendar/mens-group-145/
LOCATION:FL
END:VEVENT
BEGIN:VEVENT
DTSTART;TZID=America/New_York:20250218T190000
DTEND;TZID=America/New_York:20250218T203000
DTSTAMP:20260419T153417
CREATED:20240111T202056Z
LAST-MODIFIED:20250218T154736Z
UID:10255-1739905200-1739910600@lakeworth.sunlightchurch.com
SUMMARY:Faith Alive - Women's Bible Study - Upper Room
DESCRIPTION:
URL:https://lakeworth.sunlightchurch.com/calendar/faith-alive-womens-bible-study-upper-room-57/
LOCATION:1325 N Federal Hwy\, 1700 Lake Worth Rd\, Lake Worth\, FL\, United States
END:VEVENT
BEGIN:VEVENT
DTSTART;TZID=America/New_York:20250216T100000
DTEND;TZID=America/New_York:20250216T110000
DTSTAMP:20260419T153417
CREATED:20231116T134912Z
LAST-MODIFIED:20250216T150239Z
UID:9739-1739700000-1739703600@lakeworth.sunlightchurch.com
SUMMARY:Worship Service
DESCRIPTION:
URL:https://lakeworth.sunlightchurch.com/calendar/worship-service-67/
LOCATION:FL
END:VEVENT
BEGIN:VEVENT
DTSTART;TZID=America/New_York:20250213T190000
DTEND;TZID=America/New_York:20250213T200000
DTSTAMP:20260419T153417
CREATED:20231116T134912Z
LAST-MODIFIED:20241112T170306Z
UID:9738-1739473200-1739476800@lakeworth.sunlightchurch.com
SUMMARY:Men's Group
DESCRIPTION:
URL:https://lakeworth.sunlightchurch.com/calendar/mens-group-68/
LOCATION:FL
END:VEVENT
BEGIN:VEVENT
DTSTART;TZID=America/New_York:20250212T190000
DTEND;TZID=America/New_York:20250212T203000
DTSTAMP:20260419T153417
CREATED:20231116T134911Z
LAST-MODIFIED:20250212T133317Z
UID:9737-1739386800-1739392200@lakeworth.sunlightchurch.com
SUMMARY:Alcoholics Anonymous
DESCRIPTION:
URL:https://lakeworth.sunlightchurch.com/calendar/alcoholics-anonymous-68/
LOCATION:FL
END:VEVENT
BEGIN:VEVENT
DTSTART;TZID=America/New_York:20250212T190000
DTEND;TZID=America/New_York:20250212T200000
DTSTAMP:20260419T153417
CREATED:20241113T171548Z
LAST-MODIFIED:20250212T133317Z
UID:10926-1739386800-1739390400@lakeworth.sunlightchurch.com
SUMMARY:Men's Group
DESCRIPTION:
URL:https://lakeworth.sunlightchurch.com/calendar/mens-group-144/
LOCATION:FL
END:VEVENT
BEGIN:VEVENT
DTSTART;TZID=America/New_York:20250211T190000
DTEND;TZID=America/New_York:20250211T203000
DTSTAMP:20260419T153417
CREATED:20240111T202056Z
LAST-MODIFIED:20250211T132142Z
UID:10254-1739300400-1739305800@lakeworth.sunlightchurch.com
SUMMARY:Faith Alive - Women's Bible Study - Upper Room
DESCRIPTION:
URL:https://lakeworth.sunlightchurch.com/calendar/faith-alive-womens-bible-study-upper-room-56/
LOCATION:1325 N Federal Hwy\, 1700 Lake Worth Rd\, Lake Worth\, FL\, United States
END:VEVENT
BEGIN:VEVENT
DTSTART;TZID=America/New_York:20250209T100000
DTEND;TZID=America/New_York:20250209T110000
DTSTAMP:20260419T153417
CREATED:20231116T134911Z
LAST-MODIFIED:20250209T123420Z
UID:9736-1739095200-1739098800@lakeworth.sunlightchurch.com
SUMMARY:Worship Service
DESCRIPTION:
URL:https://lakeworth.sunlightchurch.com/calendar/worship-service-66/
LOCATION:FL
END:VEVENT
BEGIN:VEVENT
DTSTART;TZID=America/New_York:20250206T190000
DTEND;TZID=America/New_York:20250206T200000
DTSTAMP:20260419T153417
CREATED:20231116T134911Z
LAST-MODIFIED:20241112T170305Z
UID:9735-1738868400-1738872000@lakeworth.sunlightchurch.com
SUMMARY:Men's Group
DESCRIPTION:
URL:https://lakeworth.sunlightchurch.com/calendar/mens-group-67/
LOCATION:FL
END:VEVENT
BEGIN:VEVENT
DTSTART;TZID=America/New_York:20250205T190000
DTEND;TZID=America/New_York:20250205T203000
DTSTAMP:20260419T153417
CREATED:20231116T134911Z
LAST-MODIFIED:20250205T104308Z
UID:9734-1738782000-1738787400@lakeworth.sunlightchurch.com
SUMMARY:Alcoholics Anonymous
DESCRIPTION:
URL:https://lakeworth.sunlightchurch.com/calendar/alcoholics-anonymous-67/
LOCATION:FL
END:VEVENT
BEGIN:VEVENT
DTSTART;TZID=America/New_York:20250205T190000
DTEND;TZID=America/New_York:20250205T200000
DTSTAMP:20260419T153417
CREATED:20241113T171547Z
LAST-MODIFIED:20250205T104308Z
UID:10925-1738782000-1738785600@lakeworth.sunlightchurch.com
SUMMARY:Men's Group
DESCRIPTION:
URL:https://lakeworth.sunlightchurch.com/calendar/mens-group-143/
LOCATION:FL
END:VEVENT
BEGIN:VEVENT
DTSTART;TZID=America/New_York:20250204T190000
DTEND;TZID=America/New_York:20250204T203000
DTSTAMP:20260419T153417
CREATED:20240111T202056Z
LAST-MODIFIED:20250204T100322Z
UID:10253-1738695600-1738701000@lakeworth.sunlightchurch.com
SUMMARY:Faith Alive - Women's Bible Study - Upper Room
DESCRIPTION:
URL:https://lakeworth.sunlightchurch.com/calendar/faith-alive-womens-bible-study-upper-room-55/
LOCATION:1325 N Federal Hwy\, 1700 Lake Worth Rd\, Lake Worth\, FL\, United States
END:VEVENT
BEGIN:VEVENT
DTSTART;TZID=America/New_York:20250202T100000
DTEND;TZID=America/New_York:20250202T110000
DTSTAMP:20260419T153417
CREATED:20231116T134911Z
LAST-MODIFIED:20250202T094720Z
UID:9733-1738490400-1738494000@lakeworth.sunlightchurch.com
SUMMARY:Worship Service
DESCRIPTION:
URL:https://lakeworth.sunlightchurch.com/calendar/worship-service-65/
LOCATION:FL
END:VEVENT
BEGIN:VEVENT
DTSTART;TZID=America/New_York:20250130T190000
DTEND;TZID=America/New_York:20250130T200000
DTSTAMP:20260419T153417
CREATED:20231116T134911Z
LAST-MODIFIED:20241112T170304Z
UID:9732-1738263600-1738267200@lakeworth.sunlightchurch.com
SUMMARY:Men's Group
DESCRIPTION:
URL:https://lakeworth.sunlightchurch.com/calendar/mens-group-66/
LOCATION:FL
END:VEVENT
BEGIN:VEVENT
DTSTART;TZID=America/New_York:20250129T190000
DTEND;TZID=America/New_York:20250129T203000
DTSTAMP:20260419T153417
CREATED:20231116T134910Z
LAST-MODIFIED:20250129T093124Z
UID:9731-1738177200-1738182600@lakeworth.sunlightchurch.com
SUMMARY:Alcoholics Anonymous
DESCRIPTION:
URL:https://lakeworth.sunlightchurch.com/calendar/alcoholics-anonymous-66/
LOCATION:FL
END:VEVENT
BEGIN:VEVENT
DTSTART;TZID=America/New_York:20250129T190000
DTEND;TZID=America/New_York:20250129T200000
DTSTAMP:20260419T153417
CREATED:20241113T171547Z
LAST-MODIFIED:20250129T093124Z
UID:10924-1738177200-1738180800@lakeworth.sunlightchurch.com
SUMMARY:Men's Group
DESCRIPTION:
URL:https://lakeworth.sunlightchurch.com/calendar/mens-group-142/
LOCATION:FL
END:VEVENT
BEGIN:VEVENT
DTSTART;TZID=America/New_York:20250128T190000
DTEND;TZID=America/New_York:20250128T203000
DTSTAMP:20260419T153417
CREATED:20240111T202055Z
LAST-MODIFIED:20250128T092121Z
UID:10252-1738090800-1738096200@lakeworth.sunlightchurch.com
SUMMARY:Faith Alive - Women's Bible Study - Upper Room
DESCRIPTION:
URL:https://lakeworth.sunlightchurch.com/calendar/faith-alive-womens-bible-study-upper-room-54/
LOCATION:1325 N Federal Hwy\, 1700 Lake Worth Rd\, Lake Worth\, FL\, United States
END:VEVENT
BEGIN:VEVENT
DTSTART;TZID=America/New_York:20250126T100000
DTEND;TZID=America/New_York:20250126T110000
DTSTAMP:20260419T153417
CREATED:20231116T134910Z
LAST-MODIFIED:20250126T084623Z
UID:9730-1737885600-1737889200@lakeworth.sunlightchurch.com
SUMMARY:Worship Service
DESCRIPTION:
URL:https://lakeworth.sunlightchurch.com/calendar/worship-service-64/
LOCATION:FL
END:VEVENT
BEGIN:VEVENT
DTSTART;TZID=America/New_York:20250123T190000
DTEND;TZID=America/New_York:20250123T200000
DTSTAMP:20260419T153417
CREATED:20231116T134910Z
LAST-MODIFIED:20241112T170303Z
UID:9729-1737658800-1737662400@lakeworth.sunlightchurch.com
SUMMARY:Men's Group
DESCRIPTION:
URL:https://lakeworth.sunlightchurch.com/calendar/mens-group-65/
LOCATION:FL
END:VEVENT
BEGIN:VEVENT
DTSTART;TZID=America/New_York:20250122T190000
DTEND;TZID=America/New_York:20250122T203000
DTSTAMP:20260419T153417
CREATED:20231116T134910Z
LAST-MODIFIED:20250122T083256Z
UID:9728-1737572400-1737577800@lakeworth.sunlightchurch.com
SUMMARY:Alcoholics Anonymous
DESCRIPTION:
URL:https://lakeworth.sunlightchurch.com/calendar/alcoholics-anonymous-65/
LOCATION:FL
END:VEVENT
BEGIN:VEVENT
DTSTART;TZID=America/New_York:20250122T190000
DTEND;TZID=America/New_York:20250122T200000
DTSTAMP:20260419T153417
CREATED:20241113T171546Z
LAST-MODIFIED:20250122T083256Z
UID:10923-1737572400-1737576000@lakeworth.sunlightchurch.com
SUMMARY:Men's Group
DESCRIPTION:
URL:https://lakeworth.sunlightchurch.com/calendar/mens-group-141/
LOCATION:FL
END:VEVENT
BEGIN:VEVENT
DTSTART;TZID=America/New_York:20250121T190000
DTEND;TZID=America/New_York:20250121T203000
DTSTAMP:20260419T153417
CREATED:20240111T202055Z
LAST-MODIFIED:20250121T081855Z
UID:10251-1737486000-1737491400@lakeworth.sunlightchurch.com
SUMMARY:Faith Alive - Women's Bible Study - Upper Room
DESCRIPTION:
URL:https://lakeworth.sunlightchurch.com/calendar/faith-alive-womens-bible-study-upper-room-53/
LOCATION:1325 N Federal Hwy\, 1700 Lake Worth Rd\, Lake Worth\, FL\, United States
END:VEVENT
BEGIN:VEVENT
DTSTART;TZID=America/New_York:20250119T100000
DTEND;TZID=America/New_York:20250119T110000
DTSTAMP:20260419T153417
CREATED:20231116T134910Z
LAST-MODIFIED:20250119T074501Z
UID:9727-1737280800-1737284400@lakeworth.sunlightchurch.com
SUMMARY:Worship Service
DESCRIPTION:
URL:https://lakeworth.sunlightchurch.com/calendar/worship-service-63/
LOCATION:FL
END:VEVENT
END:VCALENDAR