BEGIN:VCALENDAR
VERSION:2.0
PRODID:-//Sunlight Lake Worth - ECPv6.15.13.1//NONSGML v1.0//EN
CALSCALE:GREGORIAN
METHOD:PUBLISH
X-WR-CALNAME:Sunlight Lake Worth
X-ORIGINAL-URL:https://lakeworth.sunlightchurch.com
X-WR-CALDESC:Events for Sunlight Lake Worth
REFRESH-INTERVAL;VALUE=DURATION:PT1H
X-Robots-Tag:noindex
X-PUBLISHED-TTL:PT1H
BEGIN:VTIMEZONE
TZID:America/New_York
BEGIN:DAYLIGHT
TZOFFSETFROM:-0500
TZOFFSETTO:-0400
TZNAME:EDT
DTSTART:20230312T070000
END:DAYLIGHT
BEGIN:STANDARD
TZOFFSETFROM:-0400
TZOFFSETTO:-0500
TZNAME:EST
DTSTART:20231105T060000
END:STANDARD
BEGIN:DAYLIGHT
TZOFFSETFROM:-0500
TZOFFSETTO:-0400
TZNAME:EDT
DTSTART:20240310T070000
END:DAYLIGHT
BEGIN:STANDARD
TZOFFSETFROM:-0400
TZOFFSETTO:-0500
TZNAME:EST
DTSTART:20241103T060000
END:STANDARD
BEGIN:DAYLIGHT
TZOFFSETFROM:-0500
TZOFFSETTO:-0400
TZNAME:EDT
DTSTART:20250309T070000
END:DAYLIGHT
BEGIN:STANDARD
TZOFFSETFROM:-0400
TZOFFSETTO:-0500
TZNAME:EST
DTSTART:20251102T060000
END:STANDARD
BEGIN:DAYLIGHT
TZOFFSETFROM:-0500
TZOFFSETTO:-0400
TZNAME:EDT
DTSTART:20260308T070000
END:DAYLIGHT
BEGIN:STANDARD
TZOFFSETFROM:-0400
TZOFFSETTO:-0500
TZNAME:EST
DTSTART:20261101T060000
END:STANDARD
END:VTIMEZONE
BEGIN:VEVENT
DTSTART;TZID=America/New_York:20250126T100000
DTEND;TZID=America/New_York:20250126T110000
DTSTAMP:20260419T191410
CREATED:20231116T134910Z
LAST-MODIFIED:20250126T084623Z
UID:9730-1737885600-1737889200@lakeworth.sunlightchurch.com
SUMMARY:Worship Service
DESCRIPTION:
URL:https://lakeworth.sunlightchurch.com/calendar/worship-service-64/
LOCATION:FL
END:VEVENT
BEGIN:VEVENT
DTSTART;TZID=America/New_York:20250123T190000
DTEND;TZID=America/New_York:20250123T200000
DTSTAMP:20260419T191410
CREATED:20231116T134910Z
LAST-MODIFIED:20241112T170303Z
UID:9729-1737658800-1737662400@lakeworth.sunlightchurch.com
SUMMARY:Men's Group
DESCRIPTION:
URL:https://lakeworth.sunlightchurch.com/calendar/mens-group-65/
LOCATION:FL
END:VEVENT
BEGIN:VEVENT
DTSTART;TZID=America/New_York:20250122T190000
DTEND;TZID=America/New_York:20250122T203000
DTSTAMP:20260419T191410
CREATED:20231116T134910Z
LAST-MODIFIED:20250122T083256Z
UID:9728-1737572400-1737577800@lakeworth.sunlightchurch.com
SUMMARY:Alcoholics Anonymous
DESCRIPTION:
URL:https://lakeworth.sunlightchurch.com/calendar/alcoholics-anonymous-65/
LOCATION:FL
END:VEVENT
BEGIN:VEVENT
DTSTART;TZID=America/New_York:20250122T190000
DTEND;TZID=America/New_York:20250122T200000
DTSTAMP:20260419T191410
CREATED:20241113T171546Z
LAST-MODIFIED:20250122T083256Z
UID:10923-1737572400-1737576000@lakeworth.sunlightchurch.com
SUMMARY:Men's Group
DESCRIPTION:
URL:https://lakeworth.sunlightchurch.com/calendar/mens-group-141/
LOCATION:FL
END:VEVENT
BEGIN:VEVENT
DTSTART;TZID=America/New_York:20250121T190000
DTEND;TZID=America/New_York:20250121T203000
DTSTAMP:20260419T191410
CREATED:20240111T202055Z
LAST-MODIFIED:20250121T081855Z
UID:10251-1737486000-1737491400@lakeworth.sunlightchurch.com
SUMMARY:Faith Alive - Women's Bible Study - Upper Room
DESCRIPTION:
URL:https://lakeworth.sunlightchurch.com/calendar/faith-alive-womens-bible-study-upper-room-53/
LOCATION:1325 N Federal Hwy\, 1700 Lake Worth Rd\, Lake Worth\, FL\, United States
END:VEVENT
BEGIN:VEVENT
DTSTART;TZID=America/New_York:20250119T100000
DTEND;TZID=America/New_York:20250119T110000
DTSTAMP:20260419T191410
CREATED:20231116T134910Z
LAST-MODIFIED:20250119T074501Z
UID:9727-1737280800-1737284400@lakeworth.sunlightchurch.com
SUMMARY:Worship Service
DESCRIPTION:
URL:https://lakeworth.sunlightchurch.com/calendar/worship-service-63/
LOCATION:FL
END:VEVENT
BEGIN:VEVENT
DTSTART;TZID=America/New_York:20250116T190000
DTEND;TZID=America/New_York:20250116T200000
DTSTAMP:20260419T191410
CREATED:20231116T134910Z
LAST-MODIFIED:20241112T170346Z
UID:9726-1737054000-1737057600@lakeworth.sunlightchurch.com
SUMMARY:Men's Group
DESCRIPTION:
URL:https://lakeworth.sunlightchurch.com/calendar/mens-group-64/
LOCATION:FL
END:VEVENT
BEGIN:VEVENT
DTSTART;TZID=America/New_York:20250115T190000
DTEND;TZID=America/New_York:20250115T203000
DTSTAMP:20260419T191410
CREATED:20231116T134910Z
LAST-MODIFIED:20250115T073026Z
UID:9725-1736967600-1736973000@lakeworth.sunlightchurch.com
SUMMARY:Alcoholics Anonymous
DESCRIPTION:
URL:https://lakeworth.sunlightchurch.com/calendar/alcoholics-anonymous-64/
LOCATION:FL
END:VEVENT
BEGIN:VEVENT
DTSTART;TZID=America/New_York:20250115T190000
DTEND;TZID=America/New_York:20250115T200000
DTSTAMP:20260419T191410
CREATED:20241113T171545Z
LAST-MODIFIED:20250115T073026Z
UID:10922-1736967600-1736971200@lakeworth.sunlightchurch.com
SUMMARY:Men's Group
DESCRIPTION:
URL:https://lakeworth.sunlightchurch.com/calendar/mens-group-140/
LOCATION:FL
END:VEVENT
BEGIN:VEVENT
DTSTART;TZID=America/New_York:20250114T190000
DTEND;TZID=America/New_York:20250114T203000
DTSTAMP:20260419T191410
CREATED:20240111T202054Z
LAST-MODIFIED:20250114T071519Z
UID:10250-1736881200-1736886600@lakeworth.sunlightchurch.com
SUMMARY:Faith Alive - Women's Bible Study - Upper Room
DESCRIPTION:
URL:https://lakeworth.sunlightchurch.com/calendar/faith-alive-womens-bible-study-upper-room-52/
LOCATION:1325 N Federal Hwy\, 1700 Lake Worth Rd\, Lake Worth\, FL\, United States
END:VEVENT
BEGIN:VEVENT
DTSTART;TZID=America/New_York:20250112T100000
DTEND;TZID=America/New_York:20250112T110000
DTSTAMP:20260419T191410
CREATED:20231116T134910Z
LAST-MODIFIED:20250112T054503Z
UID:9724-1736676000-1736679600@lakeworth.sunlightchurch.com
SUMMARY:Worship Service
DESCRIPTION:
URL:https://lakeworth.sunlightchurch.com/calendar/worship-service-62/
LOCATION:FL
END:VEVENT
BEGIN:VEVENT
DTSTART;TZID=America/New_York:20250109T190000
DTEND;TZID=America/New_York:20250109T200000
DTSTAMP:20260419T191410
CREATED:20231116T134910Z
LAST-MODIFIED:20241112T170345Z
UID:9723-1736449200-1736452800@lakeworth.sunlightchurch.com
SUMMARY:Men's Group
DESCRIPTION:
URL:https://lakeworth.sunlightchurch.com/calendar/mens-group-63/
LOCATION:FL
END:VEVENT
BEGIN:VEVENT
DTSTART;TZID=America/New_York:20250108T190000
DTEND;TZID=America/New_York:20250108T203000
DTSTAMP:20260419T191410
CREATED:20231116T134909Z
LAST-MODIFIED:20250108T035857Z
UID:9722-1736362800-1736368200@lakeworth.sunlightchurch.com
SUMMARY:Alcoholics Anonymous
DESCRIPTION:
URL:https://lakeworth.sunlightchurch.com/calendar/alcoholics-anonymous-63/
LOCATION:FL
END:VEVENT
BEGIN:VEVENT
DTSTART;TZID=America/New_York:20250108T190000
DTEND;TZID=America/New_York:20250108T200000
DTSTAMP:20260419T191410
CREATED:20241113T171545Z
LAST-MODIFIED:20250108T035857Z
UID:10921-1736362800-1736366400@lakeworth.sunlightchurch.com
SUMMARY:Men's Group
DESCRIPTION:
URL:https://lakeworth.sunlightchurch.com/calendar/mens-group-139/
LOCATION:FL
END:VEVENT
BEGIN:VEVENT
DTSTART;TZID=America/New_York:20250107T190000
DTEND;TZID=America/New_York:20250107T203000
DTSTAMP:20260419T191410
CREATED:20240111T202054Z
LAST-MODIFIED:20250107T034951Z
UID:10249-1736276400-1736281800@lakeworth.sunlightchurch.com
SUMMARY:Faith Alive - Women's Bible Study - Upper Room
DESCRIPTION:
URL:https://lakeworth.sunlightchurch.com/calendar/faith-alive-womens-bible-study-upper-room-51/
LOCATION:1325 N Federal Hwy\, 1700 Lake Worth Rd\, Lake Worth\, FL\, United States
END:VEVENT
BEGIN:VEVENT
DTSTART;TZID=America/New_York:20250105T100000
DTEND;TZID=America/New_York:20250105T110000
DTSTAMP:20260419T191410
CREATED:20231116T134909Z
LAST-MODIFIED:20250105T034510Z
UID:9721-1736071200-1736074800@lakeworth.sunlightchurch.com
SUMMARY:Worship Service
DESCRIPTION:
URL:https://lakeworth.sunlightchurch.com/calendar/worship-service-61/
LOCATION:FL
END:VEVENT
BEGIN:VEVENT
DTSTART;TZID=America/New_York:20250102T190000
DTEND;TZID=America/New_York:20250102T200000
DTSTAMP:20260419T191410
CREATED:20231116T134909Z
LAST-MODIFIED:20241112T170345Z
UID:9720-1735844400-1735848000@lakeworth.sunlightchurch.com
SUMMARY:Men's Group
DESCRIPTION:
URL:https://lakeworth.sunlightchurch.com/calendar/mens-group-62/
LOCATION:FL
END:VEVENT
BEGIN:VEVENT
DTSTART;TZID=America/New_York:20250101T190000
DTEND;TZID=America/New_York:20250101T203000
DTSTAMP:20260419T191410
CREATED:20231116T134909Z
LAST-MODIFIED:20250101T031500Z
UID:9719-1735758000-1735763400@lakeworth.sunlightchurch.com
SUMMARY:Alcoholics Anonymous
DESCRIPTION:
URL:https://lakeworth.sunlightchurch.com/calendar/alcoholics-anonymous-62/
LOCATION:FL
END:VEVENT
BEGIN:VEVENT
DTSTART;TZID=America/New_York:20250101T190000
DTEND;TZID=America/New_York:20250101T200000
DTSTAMP:20260419T191410
CREATED:20241113T171544Z
LAST-MODIFIED:20250101T031500Z
UID:10920-1735758000-1735761600@lakeworth.sunlightchurch.com
SUMMARY:Men's Group
DESCRIPTION:
URL:https://lakeworth.sunlightchurch.com/calendar/mens-group-138/
LOCATION:FL
END:VEVENT
BEGIN:VEVENT
DTSTART;TZID=America/New_York:20241231T190000
DTEND;TZID=America/New_York:20241231T203000
DTSTAMP:20260419T191410
CREATED:20240111T202053Z
LAST-MODIFIED:20241231T031514Z
UID:10248-1735671600-1735677000@lakeworth.sunlightchurch.com
SUMMARY:Faith Alive - Women's Bible Study - Upper Room
DESCRIPTION:
URL:https://lakeworth.sunlightchurch.com/calendar/faith-alive-womens-bible-study-upper-room-50/
LOCATION:1325 N Federal Hwy\, 1700 Lake Worth Rd\, Lake Worth\, FL\, United States
END:VEVENT
BEGIN:VEVENT
DTSTART;TZID=America/New_York:20241229T100000
DTEND;TZID=America/New_York:20241229T110000
DTSTAMP:20260419T191410
CREATED:20231116T134909Z
LAST-MODIFIED:20241229T030757Z
UID:9718-1735466400-1735470000@lakeworth.sunlightchurch.com
SUMMARY:Worship Service
DESCRIPTION:
URL:https://lakeworth.sunlightchurch.com/calendar/worship-service-60/
LOCATION:FL
END:VEVENT
BEGIN:VEVENT
DTSTART;TZID=America/New_York:20241226T190000
DTEND;TZID=America/New_York:20241226T200000
DTSTAMP:20260419T191410
CREATED:20231116T134909Z
LAST-MODIFIED:20241112T170328Z
UID:9717-1735239600-1735243200@lakeworth.sunlightchurch.com
SUMMARY:Men's Group
DESCRIPTION:
URL:https://lakeworth.sunlightchurch.com/calendar/mens-group-61/
LOCATION:FL
END:VEVENT
BEGIN:VEVENT
DTSTART;TZID=America/New_York:20241225T190000
DTEND;TZID=America/New_York:20241225T203000
DTSTAMP:20260419T191410
CREATED:20231116T134909Z
LAST-MODIFIED:20241225T013819Z
UID:9716-1735153200-1735158600@lakeworth.sunlightchurch.com
SUMMARY:Alcoholics Anonymous
DESCRIPTION:
URL:https://lakeworth.sunlightchurch.com/calendar/alcoholics-anonymous-61/
LOCATION:FL
END:VEVENT
BEGIN:VEVENT
DTSTART;TZID=America/New_York:20241225T190000
DTEND;TZID=America/New_York:20241225T200000
DTSTAMP:20260419T191410
CREATED:20241113T171543Z
LAST-MODIFIED:20241225T013820Z
UID:10919-1735153200-1735156800@lakeworth.sunlightchurch.com
SUMMARY:Men's Group
DESCRIPTION:
URL:https://lakeworth.sunlightchurch.com/calendar/mens-group-137/
LOCATION:FL
END:VEVENT
BEGIN:VEVENT
DTSTART;TZID=America/New_York:20241224T190000
DTEND;TZID=America/New_York:20241224T203000
DTSTAMP:20260419T191410
CREATED:20240111T202053Z
LAST-MODIFIED:20241224T013040Z
UID:10247-1735066800-1735072200@lakeworth.sunlightchurch.com
SUMMARY:Faith Alive - Women's Bible Study - Upper Room
DESCRIPTION:
URL:https://lakeworth.sunlightchurch.com/calendar/faith-alive-womens-bible-study-upper-room-49/
LOCATION:1325 N Federal Hwy\, 1700 Lake Worth Rd\, Lake Worth\, FL\, United States
END:VEVENT
BEGIN:VEVENT
DTSTART;TZID=America/New_York:20241222T100000
DTEND;TZID=America/New_York:20241222T110000
DTSTAMP:20260419T191410
CREATED:20231116T134908Z
LAST-MODIFIED:20241222T011554Z
UID:9715-1734861600-1734865200@lakeworth.sunlightchurch.com
SUMMARY:Worship Service
DESCRIPTION:
URL:https://lakeworth.sunlightchurch.com/calendar/worship-service-59/
LOCATION:FL
END:VEVENT
BEGIN:VEVENT
DTSTART;TZID=America/New_York:20241219T190000
DTEND;TZID=America/New_York:20241219T200000
DTSTAMP:20260419T191410
CREATED:20231116T134908Z
LAST-MODIFIED:20241112T170327Z
UID:9714-1734634800-1734638400@lakeworth.sunlightchurch.com
SUMMARY:Men's Group
DESCRIPTION:
URL:https://lakeworth.sunlightchurch.com/calendar/mens-group-60/
LOCATION:FL
END:VEVENT
BEGIN:VEVENT
DTSTART;TZID=America/New_York:20241218T190000
DTEND;TZID=America/New_York:20241218T203000
DTSTAMP:20260419T191410
CREATED:20231116T134908Z
LAST-MODIFIED:20241219T004427Z
UID:9713-1734548400-1734553800@lakeworth.sunlightchurch.com
SUMMARY:Alcoholics Anonymous
DESCRIPTION:
URL:https://lakeworth.sunlightchurch.com/calendar/alcoholics-anonymous-60/
LOCATION:FL
END:VEVENT
BEGIN:VEVENT
DTSTART;TZID=America/New_York:20241218T190000
DTEND;TZID=America/New_York:20241218T200000
DTSTAMP:20260419T191410
CREATED:20241113T171543Z
LAST-MODIFIED:20241219T004427Z
UID:10918-1734548400-1734552000@lakeworth.sunlightchurch.com
SUMMARY:Men's Group
DESCRIPTION:
URL:https://lakeworth.sunlightchurch.com/calendar/mens-group-136/
LOCATION:FL
END:VEVENT
BEGIN:VEVENT
DTSTART;TZID=America/New_York:20241217T190000
DTEND;TZID=America/New_York:20241217T203000
DTSTAMP:20260419T191410
CREATED:20240111T202052Z
LAST-MODIFIED:20241217T231907Z
UID:10246-1734462000-1734467400@lakeworth.sunlightchurch.com
SUMMARY:Faith Alive - Women's Bible Study - Upper Room
DESCRIPTION:
URL:https://lakeworth.sunlightchurch.com/calendar/faith-alive-womens-bible-study-upper-room-48/
LOCATION:1325 N Federal Hwy\, 1700 Lake Worth Rd\, Lake Worth\, FL\, United States
END:VEVENT
END:VCALENDAR