BEGIN:VCALENDAR
VERSION:2.0
PRODID:-//Sunlight Lake Worth - ECPv6.15.13.1//NONSGML v1.0//EN
CALSCALE:GREGORIAN
METHOD:PUBLISH
X-WR-CALNAME:Sunlight Lake Worth
X-ORIGINAL-URL:https://lakeworth.sunlightchurch.com
X-WR-CALDESC:Events for Sunlight Lake Worth
REFRESH-INTERVAL;VALUE=DURATION:PT1H
X-Robots-Tag:noindex
X-PUBLISHED-TTL:PT1H
BEGIN:VTIMEZONE
TZID:America/New_York
BEGIN:DAYLIGHT
TZOFFSETFROM:-0500
TZOFFSETTO:-0400
TZNAME:EDT
DTSTART:20230312T070000
END:DAYLIGHT
BEGIN:STANDARD
TZOFFSETFROM:-0400
TZOFFSETTO:-0500
TZNAME:EST
DTSTART:20231105T060000
END:STANDARD
BEGIN:DAYLIGHT
TZOFFSETFROM:-0500
TZOFFSETTO:-0400
TZNAME:EDT
DTSTART:20240310T070000
END:DAYLIGHT
BEGIN:STANDARD
TZOFFSETFROM:-0400
TZOFFSETTO:-0500
TZNAME:EST
DTSTART:20241103T060000
END:STANDARD
BEGIN:DAYLIGHT
TZOFFSETFROM:-0500
TZOFFSETTO:-0400
TZNAME:EDT
DTSTART:20250309T070000
END:DAYLIGHT
BEGIN:STANDARD
TZOFFSETFROM:-0400
TZOFFSETTO:-0500
TZNAME:EST
DTSTART:20251102T060000
END:STANDARD
END:VTIMEZONE
BEGIN:VEVENT
DTSTART;TZID=America/New_York:20241103T100000
DTEND;TZID=America/New_York:20241103T110000
DTSTAMP:20260420T041723
CREATED:20231116T134906Z
LAST-MODIFIED:20241102T161640Z
UID:9694-1730628000-1730631600@lakeworth.sunlightchurch.com
SUMMARY:Worship Service
DESCRIPTION:
URL:https://lakeworth.sunlightchurch.com/calendar/worship-service-52/
LOCATION:FL
END:VEVENT
BEGIN:VEVENT
DTSTART;TZID=America/New_York:20241031T190000
DTEND;TZID=America/New_York:20241031T200000
DTSTAMP:20260420T041723
CREATED:20231116T134906Z
LAST-MODIFIED:20241031T154607Z
UID:9693-1730401200-1730404800@lakeworth.sunlightchurch.com
SUMMARY:Men's Group
DESCRIPTION:
URL:https://lakeworth.sunlightchurch.com/calendar/mens-group-53/
LOCATION:FL
END:VEVENT
BEGIN:VEVENT
DTSTART;TZID=America/New_York:20241030T190000
DTEND;TZID=America/New_York:20241030T203000
DTSTAMP:20260420T041723
CREATED:20231116T134906Z
LAST-MODIFIED:20241030T154458Z
UID:9692-1730314800-1730320200@lakeworth.sunlightchurch.com
SUMMARY:Alcoholics Anonymous
DESCRIPTION:
URL:https://lakeworth.sunlightchurch.com/calendar/alcoholics-anonymous-53/
LOCATION:FL
END:VEVENT
BEGIN:VEVENT
DTSTART;TZID=America/New_York:20241029T190000
DTEND;TZID=America/New_York:20241029T203000
DTSTAMP:20260420T041723
CREATED:20240111T202049Z
LAST-MODIFIED:20241029T153250Z
UID:10239-1730228400-1730233800@lakeworth.sunlightchurch.com
SUMMARY:Faith Alive - Women's Bible Study - Upper Room
DESCRIPTION:
URL:https://lakeworth.sunlightchurch.com/calendar/faith-alive-womens-bible-study-upper-room-41/
LOCATION:1325 N Federal Hwy\, 1700 Lake Worth Rd\, Lake Worth\, FL\, United States
END:VEVENT
BEGIN:VEVENT
DTSTART;TZID=America/New_York:20241027T100000
DTEND;TZID=America/New_York:20241027T110000
DTSTAMP:20260420T041723
CREATED:20231113T124525Z
LAST-MODIFIED:20241026T151505Z
UID:9394-1730023200-1730026800@lakeworth.sunlightchurch.com
SUMMARY:Worship Service
DESCRIPTION:
URL:https://lakeworth.sunlightchurch.com/calendar/worship-service-51/
LOCATION:FL
END:VEVENT
BEGIN:VEVENT
DTSTART;TZID=America/New_York:20241024T190000
DTEND;TZID=America/New_York:20241024T200000
DTSTAMP:20260420T041723
CREATED:20231113T124524Z
LAST-MODIFIED:20241024T151639Z
UID:9392-1729796400-1729800000@lakeworth.sunlightchurch.com
SUMMARY:Men's Group
DESCRIPTION:
URL:https://lakeworth.sunlightchurch.com/calendar/mens-group-52/
LOCATION:FL
END:VEVENT
BEGIN:VEVENT
DTSTART;TZID=America/New_York:20241023T190000
DTEND;TZID=America/New_York:20241023T203000
DTSTAMP:20260420T041723
CREATED:20231113T124524Z
LAST-MODIFIED:20241023T151608Z
UID:9391-1729710000-1729715400@lakeworth.sunlightchurch.com
SUMMARY:Alcoholics Anonymous
DESCRIPTION:
URL:https://lakeworth.sunlightchurch.com/calendar/alcoholics-anonymous-52/
LOCATION:FL
END:VEVENT
BEGIN:VEVENT
DTSTART;TZID=America/New_York:20241022T190000
DTEND;TZID=America/New_York:20241022T203000
DTSTAMP:20260420T041723
CREATED:20240111T202048Z
LAST-MODIFIED:20241022T151500Z
UID:10238-1729623600-1729629000@lakeworth.sunlightchurch.com
SUMMARY:Faith Alive - Women's Bible Study - Upper Room
DESCRIPTION:
URL:https://lakeworth.sunlightchurch.com/calendar/faith-alive-womens-bible-study-upper-room-40/
LOCATION:1325 N Federal Hwy\, 1700 Lake Worth Rd\, Lake Worth\, FL\, United States
END:VEVENT
BEGIN:VEVENT
DTSTART;TZID=America/New_York:20241021T190000
DTEND;TZID=America/New_York:20241021T200000
DTSTAMP:20260420T041723
CREATED:20231113T124524Z
LAST-MODIFIED:20231115T132414Z
UID:9390-1729537200-1729540800@lakeworth.sunlightchurch.com
SUMMARY:Alateen
DESCRIPTION:
URL:https://lakeworth.sunlightchurch.com/calendar/alateen-52/
LOCATION:Lighthouse Room
END:VEVENT
BEGIN:VEVENT
DTSTART;TZID=America/New_York:20241020T100000
DTEND;TZID=America/New_York:20241020T110000
DTSTAMP:20260420T041723
CREATED:20231113T124524Z
LAST-MODIFIED:20241019T144521Z
UID:9388-1729418400-1729422000@lakeworth.sunlightchurch.com
SUMMARY:Worship Service
DESCRIPTION:
URL:https://lakeworth.sunlightchurch.com/calendar/worship-service-50/
LOCATION:FL
END:VEVENT
BEGIN:VEVENT
DTSTART;TZID=America/New_York:20241019T100000
DTEND;TZID=America/New_York:20241019T113000
DTSTAMP:20260420T041723
CREATED:20231113T124524Z
LAST-MODIFIED:20231115T132413Z
UID:9387-1729332000-1729337400@lakeworth.sunlightchurch.com
SUMMARY:Narcotics Anonymous (Basement Room)
DESCRIPTION:
URL:https://lakeworth.sunlightchurch.com/calendar/narcotics-anonymous-basement-room-50/
LOCATION:FL
END:VEVENT
BEGIN:VEVENT
DTSTART;TZID=America/New_York:20241017T190000
DTEND;TZID=America/New_York:20241017T200000
DTSTAMP:20260420T041723
CREATED:20231113T124523Z
LAST-MODIFIED:20241017T141605Z
UID:9386-1729191600-1729195200@lakeworth.sunlightchurch.com
SUMMARY:Men's Group
DESCRIPTION:
URL:https://lakeworth.sunlightchurch.com/calendar/mens-group-51/
LOCATION:FL
END:VEVENT
BEGIN:VEVENT
DTSTART;TZID=America/New_York:20241016T190000
DTEND;TZID=America/New_York:20241016T203000
DTSTAMP:20260420T041723
CREATED:20231113T124523Z
LAST-MODIFIED:20241016T141538Z
UID:9385-1729105200-1729110600@lakeworth.sunlightchurch.com
SUMMARY:Alcoholics Anonymous
DESCRIPTION:
URL:https://lakeworth.sunlightchurch.com/calendar/alcoholics-anonymous-51/
LOCATION:FL
END:VEVENT
BEGIN:VEVENT
DTSTART;TZID=America/New_York:20241015T190000
DTEND;TZID=America/New_York:20241015T203000
DTSTAMP:20260420T041723
CREATED:20240111T202048Z
LAST-MODIFIED:20241015T140622Z
UID:10237-1729018800-1729024200@lakeworth.sunlightchurch.com
SUMMARY:Faith Alive - Women's Bible Study - Upper Room
DESCRIPTION:
URL:https://lakeworth.sunlightchurch.com/calendar/faith-alive-womens-bible-study-upper-room-39/
LOCATION:1325 N Federal Hwy\, 1700 Lake Worth Rd\, Lake Worth\, FL\, United States
END:VEVENT
BEGIN:VEVENT
DTSTART;TZID=America/New_York:20241014T190000
DTEND;TZID=America/New_York:20241014T200000
DTSTAMP:20260420T041723
CREATED:20231113T124523Z
LAST-MODIFIED:20231115T132413Z
UID:9383-1728932400-1728936000@lakeworth.sunlightchurch.com
SUMMARY:Alateen
DESCRIPTION:
URL:https://lakeworth.sunlightchurch.com/calendar/alateen-51/
LOCATION:Lighthouse Room
END:VEVENT
BEGIN:VEVENT
DTSTART;TZID=America/New_York:20241014T190000
DTEND;TZID=America/New_York:20241014T200000
DTSTAMP:20260420T041723
CREATED:20231113T124523Z
LAST-MODIFIED:20231115T132413Z
UID:9384-1728932400-1728936000@lakeworth.sunlightchurch.com
SUMMARY:AlAnon
DESCRIPTION:
URL:https://lakeworth.sunlightchurch.com/calendar/alanon-51/
LOCATION:Basement
END:VEVENT
BEGIN:VEVENT
DTSTART;TZID=America/New_York:20241013T100000
DTEND;TZID=America/New_York:20241013T110000
DTSTAMP:20260420T041723
CREATED:20231113T124523Z
LAST-MODIFIED:20241013T133149Z
UID:9382-1728813600-1728817200@lakeworth.sunlightchurch.com
SUMMARY:Worship Service
DESCRIPTION:
URL:https://lakeworth.sunlightchurch.com/calendar/worship-service-49/
LOCATION:FL
END:VEVENT
BEGIN:VEVENT
DTSTART;TZID=America/New_York:20241012T100000
DTEND;TZID=America/New_York:20241012T113000
DTSTAMP:20260420T041723
CREATED:20231113T124523Z
LAST-MODIFIED:20231115T132413Z
UID:9381-1728727200-1728732600@lakeworth.sunlightchurch.com
SUMMARY:Narcotics Anonymous (Basement Room)
DESCRIPTION:
URL:https://lakeworth.sunlightchurch.com/calendar/narcotics-anonymous-basement-room-49/
LOCATION:FL
END:VEVENT
BEGIN:VEVENT
DTSTART;TZID=America/New_York:20241010T190000
DTEND;TZID=America/New_York:20241010T200000
DTSTAMP:20260420T041723
CREATED:20231113T124523Z
LAST-MODIFIED:20241010T131703Z
UID:9380-1728586800-1728590400@lakeworth.sunlightchurch.com
SUMMARY:Men's Group
DESCRIPTION:
URL:https://lakeworth.sunlightchurch.com/calendar/mens-group-50/
LOCATION:FL
END:VEVENT
BEGIN:VEVENT
DTSTART;TZID=America/New_York:20241009T190000
DTEND;TZID=America/New_York:20241009T203000
DTSTAMP:20260420T041723
CREATED:20231113T124523Z
LAST-MODIFIED:20241009T131618Z
UID:9379-1728500400-1728505800@lakeworth.sunlightchurch.com
SUMMARY:Alcoholics Anonymous
DESCRIPTION:
URL:https://lakeworth.sunlightchurch.com/calendar/alcoholics-anonymous-50/
LOCATION:FL
END:VEVENT
BEGIN:VEVENT
DTSTART;TZID=America/New_York:20241008T190000
DTEND;TZID=America/New_York:20241008T203000
DTSTAMP:20260420T041723
CREATED:20240111T202047Z
LAST-MODIFIED:20241008T130230Z
UID:10236-1728414000-1728419400@lakeworth.sunlightchurch.com
SUMMARY:Faith Alive - Women's Bible Study - Upper Room
DESCRIPTION:
URL:https://lakeworth.sunlightchurch.com/calendar/faith-alive-womens-bible-study-upper-room-38/
LOCATION:1325 N Federal Hwy\, 1700 Lake Worth Rd\, Lake Worth\, FL\, United States
END:VEVENT
BEGIN:VEVENT
DTSTART;TZID=America/New_York:20241007T190000
DTEND;TZID=America/New_York:20241007T200000
DTSTAMP:20260420T041723
CREATED:20231113T124522Z
LAST-MODIFIED:20231115T132412Z
UID:9378-1728327600-1728331200@lakeworth.sunlightchurch.com
SUMMARY:AlAnon
DESCRIPTION:
URL:https://lakeworth.sunlightchurch.com/calendar/alanon-50/
LOCATION:Basement
END:VEVENT
BEGIN:VEVENT
DTSTART;TZID=America/New_York:20241007T190000
DTEND;TZID=America/New_York:20241007T200000
DTSTAMP:20260420T041723
CREATED:20231113T124522Z
LAST-MODIFIED:20231115T132412Z
UID:9377-1728327600-1728331200@lakeworth.sunlightchurch.com
SUMMARY:Alateen
DESCRIPTION:
URL:https://lakeworth.sunlightchurch.com/calendar/alateen-50/
LOCATION:Lighthouse Room
END:VEVENT
BEGIN:VEVENT
DTSTART;TZID=America/New_York:20241006T100000
DTEND;TZID=America/New_York:20241006T110000
DTSTAMP:20260420T041723
CREATED:20231113T124522Z
LAST-MODIFIED:20241006T124539Z
UID:9376-1728208800-1728212400@lakeworth.sunlightchurch.com
SUMMARY:Worship Service
DESCRIPTION:
URL:https://lakeworth.sunlightchurch.com/calendar/worship-service-48/
LOCATION:FL
END:VEVENT
BEGIN:VEVENT
DTSTART;TZID=America/New_York:20241005T100000
DTEND;TZID=America/New_York:20241005T113000
DTSTAMP:20260420T041723
CREATED:20231113T124522Z
LAST-MODIFIED:20231115T132412Z
UID:9375-1728122400-1728127800@lakeworth.sunlightchurch.com
SUMMARY:Narcotics Anonymous (Basement Room)
DESCRIPTION:
URL:https://lakeworth.sunlightchurch.com/calendar/narcotics-anonymous-basement-room-48/
LOCATION:FL
END:VEVENT
BEGIN:VEVENT
DTSTART;TZID=America/New_York:20241003T190000
DTEND;TZID=America/New_York:20241003T200000
DTSTAMP:20260420T041723
CREATED:20231113T124522Z
LAST-MODIFIED:20241003T110422Z
UID:9374-1727982000-1727985600@lakeworth.sunlightchurch.com
SUMMARY:Men's Group
DESCRIPTION:
URL:https://lakeworth.sunlightchurch.com/calendar/mens-group-49/
LOCATION:FL
END:VEVENT
BEGIN:VEVENT
DTSTART;TZID=America/New_York:20241002T190000
DTEND;TZID=America/New_York:20241002T203000
DTSTAMP:20260420T041723
CREATED:20231113T124522Z
LAST-MODIFIED:20241002T104731Z
UID:9373-1727895600-1727901000@lakeworth.sunlightchurch.com
SUMMARY:Alcoholics Anonymous
DESCRIPTION:
URL:https://lakeworth.sunlightchurch.com/calendar/alcoholics-anonymous-49/
LOCATION:FL
END:VEVENT
BEGIN:VEVENT
DTSTART;TZID=America/New_York:20241001T190000
DTEND;TZID=America/New_York:20241001T203000
DTSTAMP:20260420T041723
CREATED:20240111T202047Z
LAST-MODIFIED:20241001T104549Z
UID:10235-1727809200-1727814600@lakeworth.sunlightchurch.com
SUMMARY:Faith Alive - Women's Bible Study - Upper Room
DESCRIPTION:
URL:https://lakeworth.sunlightchurch.com/calendar/faith-alive-womens-bible-study-upper-room-37/
LOCATION:1325 N Federal Hwy\, 1700 Lake Worth Rd\, Lake Worth\, FL\, United States
END:VEVENT
BEGIN:VEVENT
DTSTART;TZID=America/New_York:20240930T190000
DTEND;TZID=America/New_York:20240930T200000
DTSTAMP:20260420T041723
CREATED:20231113T124521Z
LAST-MODIFIED:20231115T132411Z
UID:9372-1727722800-1727726400@lakeworth.sunlightchurch.com
SUMMARY:Alateen
DESCRIPTION:
URL:https://lakeworth.sunlightchurch.com/calendar/alateen-49/
LOCATION:Lighthouse Room
END:VEVENT
BEGIN:VEVENT
DTSTART;TZID=America/New_York:20240930T190000
DTEND;TZID=America/New_York:20240930T200000
DTSTAMP:20260420T041723
CREATED:20231113T124521Z
LAST-MODIFIED:20231115T132411Z
UID:9371-1727722800-1727726400@lakeworth.sunlightchurch.com
SUMMARY:AlAnon
DESCRIPTION:
URL:https://lakeworth.sunlightchurch.com/calendar/alanon-49/
LOCATION:Basement
END:VEVENT
END:VCALENDAR