BEGIN:VCALENDAR
VERSION:2.0
PRODID:-//Sunlight Lake Worth - ECPv6.15.20//NONSGML v1.0//EN
CALSCALE:GREGORIAN
METHOD:PUBLISH
X-WR-CALNAME:Sunlight Lake Worth
X-ORIGINAL-URL:https://lakeworth.sunlightchurch.com
X-WR-CALDESC:Events for Sunlight Lake Worth
REFRESH-INTERVAL;VALUE=DURATION:PT1H
X-Robots-Tag:noindex
X-PUBLISHED-TTL:PT1H
BEGIN:VTIMEZONE
TZID:America/New_York
BEGIN:DAYLIGHT
TZOFFSETFROM:-0500
TZOFFSETTO:-0400
TZNAME:EDT
DTSTART:20230312T070000
END:DAYLIGHT
BEGIN:STANDARD
TZOFFSETFROM:-0400
TZOFFSETTO:-0500
TZNAME:EST
DTSTART:20231105T060000
END:STANDARD
BEGIN:DAYLIGHT
TZOFFSETFROM:-0500
TZOFFSETTO:-0400
TZNAME:EDT
DTSTART:20240310T070000
END:DAYLIGHT
BEGIN:STANDARD
TZOFFSETFROM:-0400
TZOFFSETTO:-0500
TZNAME:EST
DTSTART:20241103T060000
END:STANDARD
BEGIN:DAYLIGHT
TZOFFSETFROM:-0500
TZOFFSETTO:-0400
TZNAME:EDT
DTSTART:20250309T070000
END:DAYLIGHT
BEGIN:STANDARD
TZOFFSETFROM:-0400
TZOFFSETTO:-0500
TZNAME:EST
DTSTART:20251102T060000
END:STANDARD
END:VTIMEZONE
BEGIN:VEVENT
DTSTART;TZID=America/New_York:20240923T190000
DTEND;TZID=America/New_York:20240923T200000
DTSTAMP:20260424T085547
CREATED:20231113T124520Z
LAST-MODIFIED:20231115T132411Z
UID:10001116-1727118000-1727121600@lakeworth.sunlightchurch.com
SUMMARY:Alateen
DESCRIPTION:
URL:https://lakeworth.sunlightchurch.com/calendar/alateen-48/
LOCATION:Lighthouse Room
END:VEVENT
BEGIN:VEVENT
DTSTART;TZID=America/New_York:20240922T100000
DTEND;TZID=America/New_York:20240922T110000
DTSTAMP:20260424T085547
CREATED:20231113T124520Z
LAST-MODIFIED:20240922T084534Z
UID:10001115-1726999200-1727002800@lakeworth.sunlightchurch.com
SUMMARY:Worship Service
DESCRIPTION:
URL:https://lakeworth.sunlightchurch.com/calendar/worship-service-46/
END:VEVENT
BEGIN:VEVENT
DTSTART;TZID=America/New_York:20240921T100000
DTEND;TZID=America/New_York:20240921T113000
DTSTAMP:20260424T085547
CREATED:20231113T124520Z
LAST-MODIFIED:20231115T132411Z
UID:10001114-1726912800-1726918200@lakeworth.sunlightchurch.com
SUMMARY:Narcotics Anonymous (Basement Room)
DESCRIPTION:
URL:https://lakeworth.sunlightchurch.com/calendar/narcotics-anonymous-basement-room-46/
END:VEVENT
BEGIN:VEVENT
DTSTART;TZID=America/New_York:20240919T190000
DTEND;TZID=America/New_York:20240919T200000
DTSTAMP:20260424T085547
CREATED:20231113T124520Z
LAST-MODIFIED:20240919T080558Z
UID:10001113-1726772400-1726776000@lakeworth.sunlightchurch.com
SUMMARY:Men's Group
DESCRIPTION:
URL:https://lakeworth.sunlightchurch.com/calendar/mens-group-47/
END:VEVENT
BEGIN:VEVENT
DTSTART;TZID=America/New_York:20240918T190000
DTEND;TZID=America/New_York:20240918T203000
DTSTAMP:20260424T085547
CREATED:20231113T124520Z
LAST-MODIFIED:20240918T075138Z
UID:10001112-1726686000-1726691400@lakeworth.sunlightchurch.com
SUMMARY:Alcoholics Anonymous
DESCRIPTION:
URL:https://lakeworth.sunlightchurch.com/calendar/alcoholics-anonymous-47/
END:VEVENT
BEGIN:VEVENT
DTSTART;TZID=America/New_York:20240917T190000
DTEND;TZID=America/New_York:20240917T203000
DTSTAMP:20260424T085547
CREATED:20240111T202046Z
LAST-MODIFIED:20240917T075027Z
UID:10001357-1726599600-1726605000@lakeworth.sunlightchurch.com
SUMMARY:Faith Alive - Women's Bible Study - Upper Room
DESCRIPTION:
URL:https://lakeworth.sunlightchurch.com/calendar/faith-alive-womens-bible-study-upper-room-35/
LOCATION:1325 N Federal Hwy\, 1700 Lake Worth Rd\, Lake Worth\, FL\, United States
GEO:26.616678;-80.065083
X-APPLE-STRUCTURED-LOCATION;VALUE=URI;X-ADDRESS=1325 N Federal Hwy 1700 Lake Worth Rd Lake Worth FL United States;X-APPLE-RADIUS=500;X-TITLE=1700 Lake Worth Rd:geo:-80.065083,26.616678
END:VEVENT
BEGIN:VEVENT
DTSTART;TZID=America/New_York:20240916T190000
DTEND;TZID=America/New_York:20240916T200000
DTSTAMP:20260424T085547
CREATED:20231113T124520Z
LAST-MODIFIED:20231115T132410Z
UID:10001110-1726513200-1726516800@lakeworth.sunlightchurch.com
SUMMARY:Alateen
DESCRIPTION:
URL:https://lakeworth.sunlightchurch.com/calendar/alateen-47/
LOCATION:Lighthouse Room
END:VEVENT
BEGIN:VEVENT
DTSTART;TZID=America/New_York:20240916T190000
DTEND;TZID=America/New_York:20240916T200000
DTSTAMP:20260424T085547
CREATED:20231113T124520Z
LAST-MODIFIED:20231115T132410Z
UID:10001111-1726513200-1726516800@lakeworth.sunlightchurch.com
SUMMARY:AlAnon
DESCRIPTION:
URL:https://lakeworth.sunlightchurch.com/calendar/alanon-47/
LOCATION:Basement
END:VEVENT
BEGIN:VEVENT
DTSTART;TZID=America/New_York:20240915T100000
DTEND;TZID=America/New_York:20240915T110000
DTSTAMP:20260424T085547
CREATED:20231113T124519Z
LAST-MODIFIED:20240915T073155Z
UID:10001109-1726394400-1726398000@lakeworth.sunlightchurch.com
SUMMARY:Worship Service
DESCRIPTION:
URL:https://lakeworth.sunlightchurch.com/calendar/worship-service-45/
END:VEVENT
BEGIN:VEVENT
DTSTART;TZID=America/New_York:20240914T100000
DTEND;TZID=America/New_York:20240914T113000
DTSTAMP:20260424T085547
CREATED:20231113T124519Z
LAST-MODIFIED:20231115T132410Z
UID:10001108-1726308000-1726313400@lakeworth.sunlightchurch.com
SUMMARY:Narcotics Anonymous (Basement Room)
DESCRIPTION:
URL:https://lakeworth.sunlightchurch.com/calendar/narcotics-anonymous-basement-room-45/
END:VEVENT
BEGIN:VEVENT
DTSTART;TZID=America/New_York:20240912T190000
DTEND;TZID=America/New_York:20240912T200000
DTSTAMP:20260424T085547
CREATED:20231113T124519Z
LAST-MODIFIED:20240912T063028Z
UID:10001107-1726167600-1726171200@lakeworth.sunlightchurch.com
SUMMARY:Men's Group
DESCRIPTION:
URL:https://lakeworth.sunlightchurch.com/calendar/mens-group-46/
END:VEVENT
BEGIN:VEVENT
DTSTART;TZID=America/New_York:20240911T190000
DTEND;TZID=America/New_York:20240911T203000
DTSTAMP:20260424T085547
CREATED:20231113T124519Z
LAST-MODIFIED:20240911T062019Z
UID:10001106-1726081200-1726086600@lakeworth.sunlightchurch.com
SUMMARY:Alcoholics Anonymous
DESCRIPTION:
URL:https://lakeworth.sunlightchurch.com/calendar/alcoholics-anonymous-46/
END:VEVENT
BEGIN:VEVENT
DTSTART;TZID=America/New_York:20240910T190000
DTEND;TZID=America/New_York:20240910T203000
DTSTAMP:20260424T085547
CREATED:20240111T202046Z
LAST-MODIFIED:20240910T061522Z
UID:10001356-1725994800-1726000200@lakeworth.sunlightchurch.com
SUMMARY:Faith Alive - Women's Bible Study - Upper Room
DESCRIPTION:
URL:https://lakeworth.sunlightchurch.com/calendar/faith-alive-womens-bible-study-upper-room-34/
LOCATION:1325 N Federal Hwy\, 1700 Lake Worth Rd\, Lake Worth\, FL\, United States
GEO:26.616678;-80.065083
X-APPLE-STRUCTURED-LOCATION;VALUE=URI;X-ADDRESS=1325 N Federal Hwy 1700 Lake Worth Rd Lake Worth FL United States;X-APPLE-RADIUS=500;X-TITLE=1700 Lake Worth Rd:geo:-80.065083,26.616678
END:VEVENT
BEGIN:VEVENT
DTSTART;TZID=America/New_York:20240909T190000
DTEND;TZID=America/New_York:20240909T200000
DTSTAMP:20260424T085547
CREATED:20231113T124519Z
LAST-MODIFIED:20231115T132410Z
UID:10001104-1725908400-1725912000@lakeworth.sunlightchurch.com
SUMMARY:AlAnon
DESCRIPTION:
URL:https://lakeworth.sunlightchurch.com/calendar/alanon-46/
LOCATION:Basement
END:VEVENT
BEGIN:VEVENT
DTSTART;TZID=America/New_York:20240909T190000
DTEND;TZID=America/New_York:20240909T200000
DTSTAMP:20260424T085547
CREATED:20231113T124519Z
LAST-MODIFIED:20231115T132409Z
UID:10001105-1725908400-1725912000@lakeworth.sunlightchurch.com
SUMMARY:Alateen
DESCRIPTION:
URL:https://lakeworth.sunlightchurch.com/calendar/alateen-46/
LOCATION:Lighthouse Room
END:VEVENT
BEGIN:VEVENT
DTSTART;TZID=America/New_York:20240908T100000
DTEND;TZID=America/New_York:20240908T110000
DTSTAMP:20260424T085547
CREATED:20231113T124518Z
LAST-MODIFIED:20240908T043913Z
UID:10001103-1725789600-1725793200@lakeworth.sunlightchurch.com
SUMMARY:Worship Service
DESCRIPTION:
URL:https://lakeworth.sunlightchurch.com/calendar/worship-service-44/
END:VEVENT
BEGIN:VEVENT
DTSTART;TZID=America/New_York:20240907T100000
DTEND;TZID=America/New_York:20240907T113000
DTSTAMP:20260424T085547
CREATED:20231113T124518Z
LAST-MODIFIED:20231115T132409Z
UID:10001102-1725703200-1725708600@lakeworth.sunlightchurch.com
SUMMARY:Narcotics Anonymous (Basement Room)
DESCRIPTION:
URL:https://lakeworth.sunlightchurch.com/calendar/narcotics-anonymous-basement-room-44/
END:VEVENT
BEGIN:VEVENT
DTSTART;TZID=America/New_York:20240905T190000
DTEND;TZID=America/New_York:20240905T200000
DTSTAMP:20260424T085547
CREATED:20231113T124518Z
LAST-MODIFIED:20240905T041545Z
UID:10001101-1725562800-1725566400@lakeworth.sunlightchurch.com
SUMMARY:Men's Group
DESCRIPTION:
URL:https://lakeworth.sunlightchurch.com/calendar/mens-group-45/
END:VEVENT
BEGIN:VEVENT
DTSTART;TZID=America/New_York:20240904T190000
DTEND;TZID=America/New_York:20240904T203000
DTSTAMP:20260424T085547
CREATED:20231113T124518Z
LAST-MODIFIED:20240904T041521Z
UID:10001100-1725476400-1725481800@lakeworth.sunlightchurch.com
SUMMARY:Alcoholics Anonymous
DESCRIPTION:
URL:https://lakeworth.sunlightchurch.com/calendar/alcoholics-anonymous-45/
END:VEVENT
BEGIN:VEVENT
DTSTART;TZID=America/New_York:20240903T190000
DTEND;TZID=America/New_York:20240903T203000
DTSTAMP:20260424T085547
CREATED:20240111T202045Z
LAST-MODIFIED:20240903T041457Z
UID:10001355-1725390000-1725395400@lakeworth.sunlightchurch.com
SUMMARY:Faith Alive - Women's Bible Study - Upper Room
DESCRIPTION:
URL:https://lakeworth.sunlightchurch.com/calendar/faith-alive-womens-bible-study-upper-room-33/
LOCATION:1325 N Federal Hwy\, 1700 Lake Worth Rd\, Lake Worth\, FL\, United States
GEO:26.616678;-80.065083
X-APPLE-STRUCTURED-LOCATION;VALUE=URI;X-ADDRESS=1325 N Federal Hwy 1700 Lake Worth Rd Lake Worth FL United States;X-APPLE-RADIUS=500;X-TITLE=1700 Lake Worth Rd:geo:-80.065083,26.616678
END:VEVENT
BEGIN:VEVENT
DTSTART;TZID=America/New_York:20240902T190000
DTEND;TZID=America/New_York:20240902T200000
DTSTAMP:20260424T085547
CREATED:20231113T124518Z
LAST-MODIFIED:20231115T132409Z
UID:10001098-1725303600-1725307200@lakeworth.sunlightchurch.com
SUMMARY:AlAnon
DESCRIPTION:
URL:https://lakeworth.sunlightchurch.com/calendar/alanon-45/
LOCATION:Basement
END:VEVENT
BEGIN:VEVENT
DTSTART;TZID=America/New_York:20240902T190000
DTEND;TZID=America/New_York:20240902T200000
DTSTAMP:20260424T085547
CREATED:20231113T124518Z
LAST-MODIFIED:20231115T132409Z
UID:10001099-1725303600-1725307200@lakeworth.sunlightchurch.com
SUMMARY:Alateen
DESCRIPTION:
URL:https://lakeworth.sunlightchurch.com/calendar/alateen-45/
LOCATION:Lighthouse Room
END:VEVENT
BEGIN:VEVENT
DTSTART;TZID=America/New_York:20240901T100000
DTEND;TZID=America/New_York:20240901T110000
DTSTAMP:20260424T085547
CREATED:20231113T124518Z
LAST-MODIFIED:20240901T034458Z
UID:10001097-1725184800-1725188400@lakeworth.sunlightchurch.com
SUMMARY:Worship Service
DESCRIPTION:
URL:https://lakeworth.sunlightchurch.com/calendar/worship-service-43/
END:VEVENT
BEGIN:VEVENT
DTSTART;TZID=America/New_York:20240831T100000
DTEND;TZID=America/New_York:20240831T113000
DTSTAMP:20260424T085547
CREATED:20231113T124517Z
LAST-MODIFIED:20231115T132409Z
UID:10001096-1725098400-1725103800@lakeworth.sunlightchurch.com
SUMMARY:Narcotics Anonymous (Basement Room)
DESCRIPTION:
URL:https://lakeworth.sunlightchurch.com/calendar/narcotics-anonymous-basement-room-43/
END:VEVENT
BEGIN:VEVENT
DTSTART;TZID=America/New_York:20240829T190000
DTEND;TZID=America/New_York:20240829T200000
DTSTAMP:20260424T085547
CREATED:20231113T124517Z
LAST-MODIFIED:20240829T025717Z
UID:10001095-1724958000-1724961600@lakeworth.sunlightchurch.com
SUMMARY:Men's Group
DESCRIPTION:
URL:https://lakeworth.sunlightchurch.com/calendar/mens-group-44/
END:VEVENT
BEGIN:VEVENT
DTSTART;TZID=America/New_York:20240828T190000
DTEND;TZID=America/New_York:20240828T203000
DTSTAMP:20260424T085547
CREATED:20231113T124517Z
LAST-MODIFIED:20240828T024635Z
UID:10001094-1724871600-1724877000@lakeworth.sunlightchurch.com
SUMMARY:Alcoholics Anonymous
DESCRIPTION:
URL:https://lakeworth.sunlightchurch.com/calendar/alcoholics-anonymous-44/
END:VEVENT
BEGIN:VEVENT
DTSTART;TZID=America/New_York:20240827T190000
DTEND;TZID=America/New_York:20240827T203000
DTSTAMP:20260424T085547
CREATED:20240111T202045Z
LAST-MODIFIED:20240827T023355Z
UID:10001354-1724785200-1724790600@lakeworth.sunlightchurch.com
SUMMARY:Faith Alive - Women's Bible Study - Upper Room
DESCRIPTION:
URL:https://lakeworth.sunlightchurch.com/calendar/faith-alive-womens-bible-study-upper-room-32/
LOCATION:1325 N Federal Hwy\, 1700 Lake Worth Rd\, Lake Worth\, FL\, United States
GEO:26.616678;-80.065083
X-APPLE-STRUCTURED-LOCATION;VALUE=URI;X-ADDRESS=1325 N Federal Hwy 1700 Lake Worth Rd Lake Worth FL United States;X-APPLE-RADIUS=500;X-TITLE=1700 Lake Worth Rd:geo:-80.065083,26.616678
END:VEVENT
BEGIN:VEVENT
DTSTART;TZID=America/New_York:20240826T190000
DTEND;TZID=America/New_York:20240826T200000
DTSTAMP:20260424T085547
CREATED:20231113T124517Z
LAST-MODIFIED:20231115T132408Z
UID:10001092-1724698800-1724702400@lakeworth.sunlightchurch.com
SUMMARY:Alateen
DESCRIPTION:
URL:https://lakeworth.sunlightchurch.com/calendar/alateen-44/
LOCATION:Lighthouse Room
END:VEVENT
BEGIN:VEVENT
DTSTART;TZID=America/New_York:20240826T190000
DTEND;TZID=America/New_York:20240826T200000
DTSTAMP:20260424T085547
CREATED:20231113T124517Z
LAST-MODIFIED:20231115T132408Z
UID:10001093-1724698800-1724702400@lakeworth.sunlightchurch.com
SUMMARY:AlAnon
DESCRIPTION:
URL:https://lakeworth.sunlightchurch.com/calendar/alanon-44/
LOCATION:Basement
END:VEVENT
BEGIN:VEVENT
DTSTART;TZID=America/New_York:20240825T100000
DTEND;TZID=America/New_York:20240825T110000
DTSTAMP:20260424T085547
CREATED:20231113T124517Z
LAST-MODIFIED:20240825T020451Z
UID:10001091-1724580000-1724583600@lakeworth.sunlightchurch.com
SUMMARY:Worship Service
DESCRIPTION:
URL:https://lakeworth.sunlightchurch.com/calendar/worship-service-42/
END:VEVENT
END:VCALENDAR