BEGIN:VCALENDAR
VERSION:2.0
PRODID:-//Sunlight Lake Worth - ECPv6.15.20//NONSGML v1.0//EN
CALSCALE:GREGORIAN
METHOD:PUBLISH
X-WR-CALNAME:Sunlight Lake Worth
X-ORIGINAL-URL:https://lakeworth.sunlightchurch.com
X-WR-CALDESC:Events for Sunlight Lake Worth
REFRESH-INTERVAL;VALUE=DURATION:PT1H
X-Robots-Tag:noindex
X-PUBLISHED-TTL:PT1H
BEGIN:VTIMEZONE
TZID:America/New_York
BEGIN:DAYLIGHT
TZOFFSETFROM:-0500
TZOFFSETTO:-0400
TZNAME:EDT
DTSTART:20230312T070000
END:DAYLIGHT
BEGIN:STANDARD
TZOFFSETFROM:-0400
TZOFFSETTO:-0500
TZNAME:EST
DTSTART:20231105T060000
END:STANDARD
BEGIN:DAYLIGHT
TZOFFSETFROM:-0500
TZOFFSETTO:-0400
TZNAME:EDT
DTSTART:20240310T070000
END:DAYLIGHT
BEGIN:STANDARD
TZOFFSETFROM:-0400
TZOFFSETTO:-0500
TZNAME:EST
DTSTART:20241103T060000
END:STANDARD
BEGIN:DAYLIGHT
TZOFFSETFROM:-0500
TZOFFSETTO:-0400
TZNAME:EDT
DTSTART:20250309T070000
END:DAYLIGHT
BEGIN:STANDARD
TZOFFSETFROM:-0400
TZOFFSETTO:-0500
TZNAME:EST
DTSTART:20251102T060000
END:STANDARD
END:VTIMEZONE
BEGIN:VEVENT
DTSTART;TZID=America/New_York:20240818T100000
DTEND;TZID=America/New_York:20240818T110000
DTSTAMP:20260424T154257
CREATED:20231113T124516Z
LAST-MODIFIED:20240818T010511Z
UID:10001085-1723975200-1723978800@lakeworth.sunlightchurch.com
SUMMARY:Worship Service
DESCRIPTION:
URL:https://lakeworth.sunlightchurch.com/calendar/worship-service-41/
END:VEVENT
BEGIN:VEVENT
DTSTART;TZID=America/New_York:20240817T100000
DTEND;TZID=America/New_York:20240817T113000
DTSTAMP:20260424T154257
CREATED:20231113T124516Z
LAST-MODIFIED:20231115T132407Z
UID:10001084-1723888800-1723894200@lakeworth.sunlightchurch.com
SUMMARY:Narcotics Anonymous (Basement Room)
DESCRIPTION:
URL:https://lakeworth.sunlightchurch.com/calendar/narcotics-anonymous-basement-room-41/
END:VEVENT
BEGIN:VEVENT
DTSTART;TZID=America/New_York:20240815T190000
DTEND;TZID=America/New_York:20240815T200000
DTSTAMP:20260424T154257
CREATED:20231113T124516Z
LAST-MODIFIED:20240815T005019Z
UID:10001083-1723748400-1723752000@lakeworth.sunlightchurch.com
SUMMARY:Men's Group
DESCRIPTION:
URL:https://lakeworth.sunlightchurch.com/calendar/mens-group-42/
END:VEVENT
BEGIN:VEVENT
DTSTART;TZID=America/New_York:20240814T190000
DTEND;TZID=America/New_York:20240814T203000
DTSTAMP:20260424T154257
CREATED:20231113T124516Z
LAST-MODIFIED:20240814T005006Z
UID:10001082-1723662000-1723667400@lakeworth.sunlightchurch.com
SUMMARY:Alcoholics Anonymous
DESCRIPTION:
URL:https://lakeworth.sunlightchurch.com/calendar/alcoholics-anonymous-42/
END:VEVENT
BEGIN:VEVENT
DTSTART;TZID=America/New_York:20240813T190000
DTEND;TZID=America/New_York:20240813T203000
DTSTAMP:20260424T154257
CREATED:20240111T202044Z
LAST-MODIFIED:20240813T003818Z
UID:10001352-1723575600-1723581000@lakeworth.sunlightchurch.com
SUMMARY:Faith Alive - Women's Bible Study - Upper Room
DESCRIPTION:
URL:https://lakeworth.sunlightchurch.com/calendar/faith-alive-womens-bible-study-upper-room-30/
LOCATION:1325 N Federal Hwy\, 1700 Lake Worth Rd\, Lake Worth\, FL\, United States
GEO:26.616678;-80.065083
X-APPLE-STRUCTURED-LOCATION;VALUE=URI;X-ADDRESS=1325 N Federal Hwy 1700 Lake Worth Rd Lake Worth FL United States;X-APPLE-RADIUS=500;X-TITLE=1700 Lake Worth Rd:geo:-80.065083,26.616678
END:VEVENT
BEGIN:VEVENT
DTSTART;TZID=America/New_York:20240812T190000
DTEND;TZID=America/New_York:20240812T200000
DTSTAMP:20260424T154257
CREATED:20231113T124516Z
LAST-MODIFIED:20231115T132407Z
UID:10001081-1723489200-1723492800@lakeworth.sunlightchurch.com
SUMMARY:AlAnon
DESCRIPTION:
URL:https://lakeworth.sunlightchurch.com/calendar/alanon-42/
LOCATION:Basement
END:VEVENT
BEGIN:VEVENT
DTSTART;TZID=America/New_York:20240812T190000
DTEND;TZID=America/New_York:20240812T200000
DTSTAMP:20260424T154257
CREATED:20231113T124515Z
LAST-MODIFIED:20231115T132407Z
UID:10001080-1723489200-1723492800@lakeworth.sunlightchurch.com
SUMMARY:Alateen
DESCRIPTION:
URL:https://lakeworth.sunlightchurch.com/calendar/alateen-42/
LOCATION:Lighthouse Room
END:VEVENT
BEGIN:VEVENT
DTSTART;TZID=America/New_York:20240811T100000
DTEND;TZID=America/New_York:20240811T110000
DTSTAMP:20260424T154257
CREATED:20231113T124515Z
LAST-MODIFIED:20240811T003413Z
UID:10001079-1723370400-1723374000@lakeworth.sunlightchurch.com
SUMMARY:Worship Service
DESCRIPTION:
URL:https://lakeworth.sunlightchurch.com/calendar/worship-service-40/
END:VEVENT
BEGIN:VEVENT
DTSTART;TZID=America/New_York:20240810T100000
DTEND;TZID=America/New_York:20240810T113000
DTSTAMP:20260424T154257
CREATED:20231113T124515Z
LAST-MODIFIED:20231115T132407Z
UID:10001078-1723284000-1723289400@lakeworth.sunlightchurch.com
SUMMARY:Narcotics Anonymous (Basement Room)
DESCRIPTION:
URL:https://lakeworth.sunlightchurch.com/calendar/narcotics-anonymous-basement-room-40/
END:VEVENT
BEGIN:VEVENT
DTSTART;TZID=America/New_York:20240808T190000
DTEND;TZID=America/New_York:20240808T200000
DTSTAMP:20260424T154257
CREATED:20231113T124515Z
LAST-MODIFIED:20240808T001937Z
UID:10001077-1723143600-1723147200@lakeworth.sunlightchurch.com
SUMMARY:Men's Group
DESCRIPTION:
URL:https://lakeworth.sunlightchurch.com/calendar/mens-group-41/
END:VEVENT
BEGIN:VEVENT
DTSTART;TZID=America/New_York:20240807T190000
DTEND;TZID=America/New_York:20240807T203000
DTSTAMP:20260424T154257
CREATED:20231113T124515Z
LAST-MODIFIED:20240808T001936Z
UID:10001076-1723057200-1723062600@lakeworth.sunlightchurch.com
SUMMARY:Alcoholics Anonymous
DESCRIPTION:
URL:https://lakeworth.sunlightchurch.com/calendar/alcoholics-anonymous-41/
END:VEVENT
BEGIN:VEVENT
DTSTART;TZID=America/New_York:20240806T190000
DTEND;TZID=America/New_York:20240806T203000
DTSTAMP:20260424T154257
CREATED:20240111T202043Z
LAST-MODIFIED:20240807T000112Z
UID:10001351-1722970800-1722976200@lakeworth.sunlightchurch.com
SUMMARY:Faith Alive - Women's Bible Study - Upper Room
DESCRIPTION:
URL:https://lakeworth.sunlightchurch.com/calendar/faith-alive-womens-bible-study-upper-room-29/
LOCATION:1325 N Federal Hwy\, 1700 Lake Worth Rd\, Lake Worth\, FL\, United States
GEO:26.616678;-80.065083
X-APPLE-STRUCTURED-LOCATION;VALUE=URI;X-ADDRESS=1325 N Federal Hwy 1700 Lake Worth Rd Lake Worth FL United States;X-APPLE-RADIUS=500;X-TITLE=1700 Lake Worth Rd:geo:-80.065083,26.616678
END:VEVENT
BEGIN:VEVENT
DTSTART;TZID=America/New_York:20240805T190000
DTEND;TZID=America/New_York:20240805T200000
DTSTAMP:20260424T154257
CREATED:20231113T124515Z
LAST-MODIFIED:20231115T132406Z
UID:10001074-1722884400-1722888000@lakeworth.sunlightchurch.com
SUMMARY:Alateen
DESCRIPTION:
URL:https://lakeworth.sunlightchurch.com/calendar/alateen-41/
LOCATION:Lighthouse Room
END:VEVENT
BEGIN:VEVENT
DTSTART;TZID=America/New_York:20240805T190000
DTEND;TZID=America/New_York:20240805T200000
DTSTAMP:20260424T154257
CREATED:20231113T124515Z
LAST-MODIFIED:20231115T132406Z
UID:10001075-1722884400-1722888000@lakeworth.sunlightchurch.com
SUMMARY:AlAnon
DESCRIPTION:
URL:https://lakeworth.sunlightchurch.com/calendar/alanon-41/
LOCATION:Basement
END:VEVENT
BEGIN:VEVENT
DTSTART;TZID=America/New_York:20240804T100000
DTEND;TZID=America/New_York:20240804T110000
DTSTAMP:20260424T154257
CREATED:20231113T124515Z
LAST-MODIFIED:20240803T231921Z
UID:10001073-1722765600-1722769200@lakeworth.sunlightchurch.com
SUMMARY:Worship Service
DESCRIPTION:
URL:https://lakeworth.sunlightchurch.com/calendar/worship-service-39/
END:VEVENT
BEGIN:VEVENT
DTSTART;TZID=America/New_York:20240803T100000
DTEND;TZID=America/New_York:20240803T113000
DTSTAMP:20260424T154257
CREATED:20231113T124514Z
LAST-MODIFIED:20231115T132406Z
UID:10001072-1722679200-1722684600@lakeworth.sunlightchurch.com
SUMMARY:Narcotics Anonymous (Basement Room)
DESCRIPTION:
URL:https://lakeworth.sunlightchurch.com/calendar/narcotics-anonymous-basement-room-39/
END:VEVENT
BEGIN:VEVENT
DTSTART;TZID=America/New_York:20240801T190000
DTEND;TZID=America/New_York:20240801T200000
DTSTAMP:20260424T154257
CREATED:20231113T124514Z
LAST-MODIFIED:20240801T230551Z
UID:10001071-1722538800-1722542400@lakeworth.sunlightchurch.com
SUMMARY:Men's Group
DESCRIPTION:
URL:https://lakeworth.sunlightchurch.com/calendar/mens-group-40/
END:VEVENT
BEGIN:VEVENT
DTSTART;TZID=America/New_York:20240731T190000
DTEND;TZID=America/New_York:20240731T203000
DTSTAMP:20260424T154257
CREATED:20231113T124514Z
LAST-MODIFIED:20240731T230422Z
UID:10001070-1722452400-1722457800@lakeworth.sunlightchurch.com
SUMMARY:Alcoholics Anonymous
DESCRIPTION:
URL:https://lakeworth.sunlightchurch.com/calendar/alcoholics-anonymous-40/
END:VEVENT
BEGIN:VEVENT
DTSTART;TZID=America/New_York:20240730T190000
DTEND;TZID=America/New_York:20240730T203000
DTSTAMP:20260424T154257
CREATED:20240111T202043Z
LAST-MODIFIED:20240730T224909Z
UID:10001350-1722366000-1722371400@lakeworth.sunlightchurch.com
SUMMARY:Faith Alive - Women's Bible Study - Upper Room
DESCRIPTION:
URL:https://lakeworth.sunlightchurch.com/calendar/faith-alive-womens-bible-study-upper-room-28/
LOCATION:1325 N Federal Hwy\, 1700 Lake Worth Rd\, Lake Worth\, FL\, United States
GEO:26.616678;-80.065083
X-APPLE-STRUCTURED-LOCATION;VALUE=URI;X-ADDRESS=1325 N Federal Hwy 1700 Lake Worth Rd Lake Worth FL United States;X-APPLE-RADIUS=500;X-TITLE=1700 Lake Worth Rd:geo:-80.065083,26.616678
END:VEVENT
BEGIN:VEVENT
DTSTART;TZID=America/New_York:20240729T190000
DTEND;TZID=America/New_York:20240729T200000
DTSTAMP:20260424T154257
CREATED:20231113T124514Z
LAST-MODIFIED:20231115T132406Z
UID:10001068-1722279600-1722283200@lakeworth.sunlightchurch.com
SUMMARY:Alateen
DESCRIPTION:
URL:https://lakeworth.sunlightchurch.com/calendar/alateen-40/
LOCATION:Lighthouse Room
END:VEVENT
BEGIN:VEVENT
DTSTART;TZID=America/New_York:20240729T190000
DTEND;TZID=America/New_York:20240729T200000
DTSTAMP:20260424T154257
CREATED:20231113T124514Z
LAST-MODIFIED:20231115T132406Z
UID:10001069-1722279600-1722283200@lakeworth.sunlightchurch.com
SUMMARY:AlAnon
DESCRIPTION:
URL:https://lakeworth.sunlightchurch.com/calendar/alanon-40/
LOCATION:Basement
END:VEVENT
BEGIN:VEVENT
DTSTART;TZID=America/New_York:20240728T100000
DTEND;TZID=America/New_York:20240728T110000
DTSTAMP:20260424T154257
CREATED:20231113T124514Z
LAST-MODIFIED:20240727T214143Z
UID:10001067-1722160800-1722164400@lakeworth.sunlightchurch.com
SUMMARY:Worship Service
DESCRIPTION:
URL:https://lakeworth.sunlightchurch.com/calendar/worship-service-38/
END:VEVENT
BEGIN:VEVENT
DTSTART;TZID=America/New_York:20240727T100000
DTEND;TZID=America/New_York:20240727T113000
DTSTAMP:20260424T154257
CREATED:20231113T124514Z
LAST-MODIFIED:20231115T132405Z
UID:10001066-1722074400-1722079800@lakeworth.sunlightchurch.com
SUMMARY:Narcotics Anonymous (Basement Room)
DESCRIPTION:
URL:https://lakeworth.sunlightchurch.com/calendar/narcotics-anonymous-basement-room-38/
END:VEVENT
BEGIN:VEVENT
DTSTART;TZID=America/New_York:20240725T190000
DTEND;TZID=America/New_York:20240725T200000
DTSTAMP:20260424T154257
CREATED:20231113T124514Z
LAST-MODIFIED:20240725T204909Z
UID:10001065-1721934000-1721937600@lakeworth.sunlightchurch.com
SUMMARY:Men's Group
DESCRIPTION:
URL:https://lakeworth.sunlightchurch.com/calendar/mens-group-39/
END:VEVENT
BEGIN:VEVENT
DTSTART;TZID=America/New_York:20240724T190000
DTEND;TZID=America/New_York:20240724T203000
DTSTAMP:20260424T154257
CREATED:20231113T124513Z
LAST-MODIFIED:20240724T204907Z
UID:10001064-1721847600-1721853000@lakeworth.sunlightchurch.com
SUMMARY:Alcoholics Anonymous
DESCRIPTION:
URL:https://lakeworth.sunlightchurch.com/calendar/alcoholics-anonymous-39/
END:VEVENT
BEGIN:VEVENT
DTSTART;TZID=America/New_York:20240723T190000
DTEND;TZID=America/New_York:20240723T203000
DTSTAMP:20260424T154257
CREATED:20240111T202042Z
LAST-MODIFIED:20240723T203910Z
UID:10001349-1721761200-1721766600@lakeworth.sunlightchurch.com
SUMMARY:Faith Alive - Women's Bible Study - Upper Room
DESCRIPTION:
URL:https://lakeworth.sunlightchurch.com/calendar/faith-alive-womens-bible-study-upper-room-27/
LOCATION:1325 N Federal Hwy\, 1700 Lake Worth Rd\, Lake Worth\, FL\, United States
GEO:26.616678;-80.065083
X-APPLE-STRUCTURED-LOCATION;VALUE=URI;X-ADDRESS=1325 N Federal Hwy 1700 Lake Worth Rd Lake Worth FL United States;X-APPLE-RADIUS=500;X-TITLE=1700 Lake Worth Rd:geo:-80.065083,26.616678
END:VEVENT
BEGIN:VEVENT
DTSTART;TZID=America/New_York:20240722T190000
DTEND;TZID=America/New_York:20240722T200000
DTSTAMP:20260424T154257
CREATED:20231113T124513Z
LAST-MODIFIED:20231115T132405Z
UID:10001062-1721674800-1721678400@lakeworth.sunlightchurch.com
SUMMARY:Alateen
DESCRIPTION:
URL:https://lakeworth.sunlightchurch.com/calendar/alateen-39/
LOCATION:Lighthouse Room
END:VEVENT
BEGIN:VEVENT
DTSTART;TZID=America/New_York:20240722T190000
DTEND;TZID=America/New_York:20240722T200000
DTSTAMP:20260424T154257
CREATED:20231113T124513Z
LAST-MODIFIED:20231115T132405Z
UID:10001063-1721674800-1721678400@lakeworth.sunlightchurch.com
SUMMARY:AlAnon
DESCRIPTION:
URL:https://lakeworth.sunlightchurch.com/calendar/alanon-39/
LOCATION:Basement
END:VEVENT
BEGIN:VEVENT
DTSTART;TZID=America/New_York:20240721T100000
DTEND;TZID=America/New_York:20240721T110000
DTSTAMP:20260424T154257
CREATED:20231113T124513Z
LAST-MODIFIED:20240720T203407Z
UID:10001061-1721556000-1721559600@lakeworth.sunlightchurch.com
SUMMARY:Worship Service
DESCRIPTION:
URL:https://lakeworth.sunlightchurch.com/calendar/worship-service-37/
END:VEVENT
BEGIN:VEVENT
DTSTART;TZID=America/New_York:20240720T100000
DTEND;TZID=America/New_York:20240720T113000
DTSTAMP:20260424T154257
CREATED:20231113T124513Z
LAST-MODIFIED:20231115T132405Z
UID:10001060-1721469600-1721475000@lakeworth.sunlightchurch.com
SUMMARY:Narcotics Anonymous (Basement Room)
DESCRIPTION:
URL:https://lakeworth.sunlightchurch.com/calendar/narcotics-anonymous-basement-room-37/
END:VEVENT
END:VCALENDAR