BEGIN:VCALENDAR
VERSION:2.0
PRODID:-//Sunlight Lake Worth - ECPv6.15.20//NONSGML v1.0//EN
CALSCALE:GREGORIAN
METHOD:PUBLISH
X-WR-CALNAME:Sunlight Lake Worth
X-ORIGINAL-URL:https://lakeworth.sunlightchurch.com
X-WR-CALDESC:Events for Sunlight Lake Worth
REFRESH-INTERVAL;VALUE=DURATION:PT1H
X-Robots-Tag:noindex
X-PUBLISHED-TTL:PT1H
BEGIN:VTIMEZONE
TZID:America/New_York
BEGIN:DAYLIGHT
TZOFFSETFROM:-0500
TZOFFSETTO:-0400
TZNAME:EDT
DTSTART:20240310T070000
END:DAYLIGHT
BEGIN:STANDARD
TZOFFSETFROM:-0400
TZOFFSETTO:-0500
TZNAME:EST
DTSTART:20241103T060000
END:STANDARD
BEGIN:DAYLIGHT
TZOFFSETFROM:-0500
TZOFFSETTO:-0400
TZNAME:EDT
DTSTART:20250309T070000
END:DAYLIGHT
BEGIN:STANDARD
TZOFFSETFROM:-0400
TZOFFSETTO:-0500
TZNAME:EST
DTSTART:20251102T060000
END:STANDARD
BEGIN:DAYLIGHT
TZOFFSETFROM:-0500
TZOFFSETTO:-0400
TZNAME:EDT
DTSTART:20260308T070000
END:DAYLIGHT
BEGIN:STANDARD
TZOFFSETFROM:-0400
TZOFFSETTO:-0500
TZNAME:EST
DTSTART:20261101T060000
END:STANDARD
END:VTIMEZONE
BEGIN:VEVENT
DTSTART;TZID=America/New_York:20251225T190000
DTEND;TZID=America/New_York:20251225T200000
DTSTAMP:20260423T034428
CREATED:20240719T203456Z
LAST-MODIFIED:20241112T170342Z
UID:10001431-1766689200-1766692800@lakeworth.sunlightchurch.com
SUMMARY:Men's Group
DESCRIPTION:
URL:https://lakeworth.sunlightchurch.com/calendar/mens-group-113/
END:VEVENT
BEGIN:VEVENT
DTSTART;TZID=America/New_York:20251224T190000
DTEND;TZID=America/New_York:20251224T203000
DTSTAMP:20260423T034428
CREATED:20240718T203509Z
LAST-MODIFIED:20250615T220359Z
UID:10001430-1766602800-1766608200@lakeworth.sunlightchurch.com
SUMMARY:Alcoholics Anonymous
DESCRIPTION:
URL:https://lakeworth.sunlightchurch.com/calendar/alcoholics-anonymous-113/
END:VEVENT
BEGIN:VEVENT
DTSTART;TZID=America/New_York:20251224T190000
DTEND;TZID=America/New_York:20251224T200000
DTSTAMP:20260423T034428
CREATED:20250410T180037Z
LAST-MODIFIED:20250615T220359Z
UID:10001843-1766602800-1766606400@lakeworth.sunlightchurch.com
SUMMARY:Men's Group
DESCRIPTION:
URL:https://lakeworth.sunlightchurch.com/calendar/mens-group-312/
END:VEVENT
BEGIN:VEVENT
DTSTART;TZID=America/New_York:20251224T190000
DTEND;TZID=America/New_York:20251224T200000
DTSTAMP:20260423T034428
CREATED:20241113T171615Z
LAST-MODIFIED:20250408T173856Z
UID:10001557-1766602800-1766606400@lakeworth.sunlightchurch.com
SUMMARY:Men's Group
DESCRIPTION:
URL:https://lakeworth.sunlightchurch.com/calendar/mens-group-189/
END:VEVENT
BEGIN:VEVENT
DTSTART;TZID=America/New_York:20251223T190000
DTEND;TZID=America/New_York:20251223T203000
DTSTAMP:20260423T034428
CREATED:20240717T202033Z
LAST-MODIFIED:20250615T220359Z
UID:10001429-1766516400-1766521800@lakeworth.sunlightchurch.com
SUMMARY:Faith Alive - Women's Bible Study - Upper Room
DESCRIPTION:
URL:https://lakeworth.sunlightchurch.com/calendar/faith-alive-womens-bible-study-upper-room-101/
LOCATION:1325 N Federal Hwy\, 1700 Lake Worth Rd\, Lake Worth\, FL\, United States
GEO:26.616678;-80.065083
X-APPLE-STRUCTURED-LOCATION;VALUE=URI;X-ADDRESS=1325 N Federal Hwy 1700 Lake Worth Rd Lake Worth FL United States;X-APPLE-RADIUS=500;X-TITLE=1700 Lake Worth Rd:geo:-80.065083,26.616678
END:VEVENT
BEGIN:VEVENT
DTSTART;TZID=America/New_York:20251221T111500
DTEND;TZID=America/New_York:20251221T121500
DTSTAMP:20260423T034428
CREATED:20250409T174734Z
LAST-MODIFIED:20250615T220359Z
UID:10001768-1766315700-1766319300@lakeworth.sunlightchurch.com
SUMMARY:Sunlight Espanol
DESCRIPTION:
URL:https://lakeworth.sunlightchurch.com/calendar/sunlight-espanol-37/
LOCATION:1325 N A Street
END:VEVENT
BEGIN:VEVENT
DTSTART;TZID=America/New_York:20251221T100000
DTEND;TZID=America/New_York:20251221T110000
DTSTAMP:20260423T034428
CREATED:20240714T200727Z
LAST-MODIFIED:20250615T220359Z
UID:10001428-1766311200-1766314800@lakeworth.sunlightchurch.com
SUMMARY:Worship Service
DESCRIPTION:
URL:https://lakeworth.sunlightchurch.com/calendar/worship-service-111/
END:VEVENT
BEGIN:VEVENT
DTSTART;TZID=America/New_York:20251218T190000
DTEND;TZID=America/New_York:20251218T200000
DTSTAMP:20260423T034428
CREATED:20250409T174734Z
LAST-MODIFIED:20250615T220348Z
UID:10001766-1766084400-1766088000@lakeworth.sunlightchurch.com
SUMMARY:Recovery Church
DESCRIPTION:
URL:https://lakeworth.sunlightchurch.com/calendar/recovery-church-37/
LOCATION:1325 N A Street
END:VEVENT
BEGIN:VEVENT
DTSTART;TZID=America/New_York:20251218T190000
DTEND;TZID=America/New_York:20251218T200000
DTSTAMP:20260423T034428
CREATED:20250409T174734Z
LAST-MODIFIED:20250409T174734Z
UID:10001767-1766084400-1766088000@lakeworth.sunlightchurch.com
SUMMARY:Men's Group
DESCRIPTION:
URL:https://lakeworth.sunlightchurch.com/calendar/mens-group-263/
END:VEVENT
BEGIN:VEVENT
DTSTART;TZID=America/New_York:20251218T190000
DTEND;TZID=America/New_York:20251218T200000
DTSTAMP:20260423T034428
CREATED:20240712T192132Z
LAST-MODIFIED:20241112T170341Z
UID:10001427-1766084400-1766088000@lakeworth.sunlightchurch.com
SUMMARY:Men's Group
DESCRIPTION:
URL:https://lakeworth.sunlightchurch.com/calendar/mens-group-112/
END:VEVENT
BEGIN:VEVENT
DTSTART;TZID=America/New_York:20251217T190000
DTEND;TZID=America/New_York:20251217T203000
DTSTAMP:20260423T034428
CREATED:20240711T192027Z
LAST-MODIFIED:20250615T220348Z
UID:10001426-1765998000-1766003400@lakeworth.sunlightchurch.com
SUMMARY:Alcoholics Anonymous
DESCRIPTION:
URL:https://lakeworth.sunlightchurch.com/calendar/alcoholics-anonymous-112/
END:VEVENT
BEGIN:VEVENT
DTSTART;TZID=America/New_York:20251217T190000
DTEND;TZID=America/New_York:20251217T200000
DTSTAMP:20260423T034428
CREATED:20250410T180037Z
LAST-MODIFIED:20250615T220348Z
UID:10001842-1765998000-1766001600@lakeworth.sunlightchurch.com
SUMMARY:Men's Group
DESCRIPTION:
URL:https://lakeworth.sunlightchurch.com/calendar/mens-group-311/
END:VEVENT
BEGIN:VEVENT
DTSTART;TZID=America/New_York:20251217T190000
DTEND;TZID=America/New_York:20251217T200000
DTSTAMP:20260423T034428
CREATED:20241113T171614Z
LAST-MODIFIED:20250408T173855Z
UID:10001556-1765998000-1766001600@lakeworth.sunlightchurch.com
SUMMARY:Men's Group
DESCRIPTION:
URL:https://lakeworth.sunlightchurch.com/calendar/mens-group-188/
END:VEVENT
BEGIN:VEVENT
DTSTART;TZID=America/New_York:20251216T190000
DTEND;TZID=America/New_York:20251216T203000
DTSTAMP:20260423T034428
CREATED:20240710T192134Z
LAST-MODIFIED:20250615T220348Z
UID:10001425-1765911600-1765917000@lakeworth.sunlightchurch.com
SUMMARY:Faith Alive - Women's Bible Study - Upper Room
DESCRIPTION:
URL:https://lakeworth.sunlightchurch.com/calendar/faith-alive-womens-bible-study-upper-room-100/
LOCATION:1325 N Federal Hwy\, 1700 Lake Worth Rd\, Lake Worth\, FL\, United States
GEO:26.616678;-80.065083
X-APPLE-STRUCTURED-LOCATION;VALUE=URI;X-ADDRESS=1325 N Federal Hwy 1700 Lake Worth Rd Lake Worth FL United States;X-APPLE-RADIUS=500;X-TITLE=1700 Lake Worth Rd:geo:-80.065083,26.616678
END:VEVENT
BEGIN:VEVENT
DTSTART;TZID=America/New_York:20251214T111500
DTEND;TZID=America/New_York:20251214T121500
DTSTAMP:20260423T034428
CREATED:20250409T174734Z
LAST-MODIFIED:20250615T220348Z
UID:10001765-1765710900-1765714500@lakeworth.sunlightchurch.com
SUMMARY:Sunlight Espanol
DESCRIPTION:
URL:https://lakeworth.sunlightchurch.com/calendar/sunlight-espanol-36/
LOCATION:1325 N A Street
END:VEVENT
BEGIN:VEVENT
DTSTART;TZID=America/New_York:20251214T100000
DTEND;TZID=America/New_York:20251214T110000
DTSTAMP:20260423T034428
CREATED:20240707T190502Z
LAST-MODIFIED:20250615T220347Z
UID:10001424-1765706400-1765710000@lakeworth.sunlightchurch.com
SUMMARY:Worship Service
DESCRIPTION:
URL:https://lakeworth.sunlightchurch.com/calendar/worship-service-110/
END:VEVENT
BEGIN:VEVENT
DTSTART;TZID=America/New_York:20251211T190000
DTEND;TZID=America/New_York:20251211T200000
DTSTAMP:20260423T034428
CREATED:20250409T174733Z
LAST-MODIFIED:20250615T220347Z
UID:10001763-1765479600-1765483200@lakeworth.sunlightchurch.com
SUMMARY:Recovery Church
DESCRIPTION:
URL:https://lakeworth.sunlightchurch.com/calendar/recovery-church-36/
LOCATION:1325 N A Street
END:VEVENT
BEGIN:VEVENT
DTSTART;TZID=America/New_York:20251211T190000
DTEND;TZID=America/New_York:20251211T200000
DTSTAMP:20260423T034428
CREATED:20250409T174733Z
LAST-MODIFIED:20250409T174733Z
UID:10001764-1765479600-1765483200@lakeworth.sunlightchurch.com
SUMMARY:Men's Group
DESCRIPTION:
URL:https://lakeworth.sunlightchurch.com/calendar/mens-group-262/
END:VEVENT
BEGIN:VEVENT
DTSTART;TZID=America/New_York:20251211T190000
DTEND;TZID=America/New_York:20251211T200000
DTSTAMP:20260423T034428
CREATED:20240705T185041Z
LAST-MODIFIED:20241112T170340Z
UID:10001423-1765479600-1765483200@lakeworth.sunlightchurch.com
SUMMARY:Men's Group
DESCRIPTION:
URL:https://lakeworth.sunlightchurch.com/calendar/mens-group-111/
END:VEVENT
BEGIN:VEVENT
DTSTART;TZID=America/New_York:20251210T190000
DTEND;TZID=America/New_York:20251210T203000
DTSTAMP:20260423T034428
CREATED:20240704T183509Z
LAST-MODIFIED:20250615T220347Z
UID:10001422-1765393200-1765398600@lakeworth.sunlightchurch.com
SUMMARY:Alcoholics Anonymous
DESCRIPTION:
URL:https://lakeworth.sunlightchurch.com/calendar/alcoholics-anonymous-111/
END:VEVENT
BEGIN:VEVENT
DTSTART;TZID=America/New_York:20251210T190000
DTEND;TZID=America/New_York:20251210T200000
DTSTAMP:20260423T034428
CREATED:20250410T180036Z
LAST-MODIFIED:20250615T220347Z
UID:10001841-1765393200-1765396800@lakeworth.sunlightchurch.com
SUMMARY:Men's Group
DESCRIPTION:
URL:https://lakeworth.sunlightchurch.com/calendar/mens-group-310/
END:VEVENT
BEGIN:VEVENT
DTSTART;TZID=America/New_York:20251210T190000
DTEND;TZID=America/New_York:20251210T200000
DTSTAMP:20260423T034428
CREATED:20241113T171613Z
LAST-MODIFIED:20250408T173855Z
UID:10001555-1765393200-1765396800@lakeworth.sunlightchurch.com
SUMMARY:Men's Group
DESCRIPTION:
URL:https://lakeworth.sunlightchurch.com/calendar/mens-group-187/
END:VEVENT
BEGIN:VEVENT
DTSTART;TZID=America/New_York:20251209T190000
DTEND;TZID=America/New_York:20251209T203000
DTSTAMP:20260423T034428
CREATED:20240703T183514Z
LAST-MODIFIED:20250615T220347Z
UID:10001421-1765306800-1765312200@lakeworth.sunlightchurch.com
SUMMARY:Faith Alive - Women's Bible Study - Upper Room
DESCRIPTION:
URL:https://lakeworth.sunlightchurch.com/calendar/faith-alive-womens-bible-study-upper-room-99/
LOCATION:1325 N Federal Hwy\, 1700 Lake Worth Rd\, Lake Worth\, FL\, United States
GEO:26.616678;-80.065083
X-APPLE-STRUCTURED-LOCATION;VALUE=URI;X-ADDRESS=1325 N Federal Hwy 1700 Lake Worth Rd Lake Worth FL United States;X-APPLE-RADIUS=500;X-TITLE=1700 Lake Worth Rd:geo:-80.065083,26.616678
END:VEVENT
BEGIN:VEVENT
DTSTART;TZID=America/New_York:20251207T111500
DTEND;TZID=America/New_York:20251207T121500
DTSTAMP:20260423T034428
CREATED:20250409T174733Z
LAST-MODIFIED:20250615T220336Z
UID:10001762-1765106100-1765109700@lakeworth.sunlightchurch.com
SUMMARY:Sunlight Espanol
DESCRIPTION:
URL:https://lakeworth.sunlightchurch.com/calendar/sunlight-espanol-35/
LOCATION:1325 N A Street
END:VEVENT
BEGIN:VEVENT
DTSTART;TZID=America/New_York:20251207T100000
DTEND;TZID=America/New_York:20251207T110000
DTSTAMP:20260423T034428
CREATED:20240107T200427Z
LAST-MODIFIED:20250615T220336Z
UID:10001321-1765101600-1765105200@lakeworth.sunlightchurch.com
SUMMARY:Worship Service
DESCRIPTION:
URL:https://lakeworth.sunlightchurch.com/calendar/worship-service-109/
END:VEVENT
BEGIN:VEVENT
DTSTART;TZID=America/New_York:20251204T190000
DTEND;TZID=America/New_York:20251204T200000
DTSTAMP:20260423T034428
CREATED:20250409T174733Z
LAST-MODIFIED:20250615T220336Z
UID:10001760-1764874800-1764878400@lakeworth.sunlightchurch.com
SUMMARY:Recovery Church
DESCRIPTION:
URL:https://lakeworth.sunlightchurch.com/calendar/recovery-church-35/
LOCATION:1325 N A Street
END:VEVENT
BEGIN:VEVENT
DTSTART;TZID=America/New_York:20251204T190000
DTEND;TZID=America/New_York:20251204T200000
DTSTAMP:20260423T034428
CREATED:20250409T174733Z
LAST-MODIFIED:20250409T174733Z
UID:10001761-1764874800-1764878400@lakeworth.sunlightchurch.com
SUMMARY:Men's Group
DESCRIPTION:
URL:https://lakeworth.sunlightchurch.com/calendar/mens-group-261/
END:VEVENT
BEGIN:VEVENT
DTSTART;TZID=America/New_York:20251204T190000
DTEND;TZID=America/New_York:20251204T200000
DTSTAMP:20260423T034428
CREATED:20240105T200600Z
LAST-MODIFIED:20241112T170339Z
UID:10001320-1764874800-1764878400@lakeworth.sunlightchurch.com
SUMMARY:Men's Group
DESCRIPTION:
URL:https://lakeworth.sunlightchurch.com/calendar/mens-group-110/
END:VEVENT
BEGIN:VEVENT
DTSTART;TZID=America/New_York:20251203T190000
DTEND;TZID=America/New_York:20251203T203000
DTSTAMP:20260423T034428
CREATED:20240104T194124Z
LAST-MODIFIED:20250615T220336Z
UID:10001319-1764788400-1764793800@lakeworth.sunlightchurch.com
SUMMARY:Alcoholics Anonymous
DESCRIPTION:
URL:https://lakeworth.sunlightchurch.com/calendar/alcoholics-anonymous-110/
END:VEVENT
BEGIN:VEVENT
DTSTART;TZID=America/New_York:20251203T190000
DTEND;TZID=America/New_York:20251203T200000
DTSTAMP:20260423T034428
CREATED:20250410T180036Z
LAST-MODIFIED:20250615T220335Z
UID:10001840-1764788400-1764792000@lakeworth.sunlightchurch.com
SUMMARY:Men's Group
DESCRIPTION:
URL:https://lakeworth.sunlightchurch.com/calendar/mens-group-309/
END:VEVENT
END:VCALENDAR