BEGIN:VCALENDAR
VERSION:2.0
PRODID:-//Sunlight Lake Worth - ECPv6.15.13.1//NONSGML v1.0//EN
CALSCALE:GREGORIAN
METHOD:PUBLISH
X-ORIGINAL-URL:https://lakeworth.sunlightchurch.com
X-WR-CALDESC:Events for Sunlight Lake Worth
REFRESH-INTERVAL;VALUE=DURATION:PT1H
X-Robots-Tag:noindex
X-PUBLISHED-TTL:PT1H
BEGIN:VTIMEZONE
TZID:America/New_York
BEGIN:DAYLIGHT
TZOFFSETFROM:-0500
TZOFFSETTO:-0400
TZNAME:EDT
DTSTART:20250309T070000
END:DAYLIGHT
BEGIN:STANDARD
TZOFFSETFROM:-0400
TZOFFSETTO:-0500
TZNAME:EST
DTSTART:20251102T060000
END:STANDARD
BEGIN:DAYLIGHT
TZOFFSETFROM:-0500
TZOFFSETTO:-0400
TZNAME:EDT
DTSTART:20260308T070000
END:DAYLIGHT
BEGIN:STANDARD
TZOFFSETFROM:-0400
TZOFFSETTO:-0500
TZNAME:EST
DTSTART:20261101T060000
END:STANDARD
BEGIN:DAYLIGHT
TZOFFSETFROM:-0500
TZOFFSETTO:-0400
TZNAME:EDT
DTSTART:20270314T070000
END:DAYLIGHT
BEGIN:STANDARD
TZOFFSETFROM:-0400
TZOFFSETTO:-0500
TZNAME:EST
DTSTART:20271107T060000
END:STANDARD
END:VTIMEZONE
BEGIN:VEVENT
DTSTART;TZID=America/New_York:20260602T190000
DTEND;TZID=America/New_York:20260602T203000
DTSTAMP:20260422T003320
CREATED:20241225T013852Z
LAST-MODIFIED:20250408T173904Z
UID:11151-1780426800-1780432200@lakeworth.sunlightchurch.com
SUMMARY:Faith Alive - Women's Bible Study - Upper Room
DESCRIPTION:
URL:https://lakeworth.sunlightchurch.com/calendar/faith-alive-womens-bible-study-upper-room-124/
LOCATION:1325 N Federal Hwy\, 1700 Lake Worth Rd\, Lake Worth\, FL\, United States
END:VEVENT
BEGIN:VEVENT
DTSTART;TZID=America/New_York:20260603T190000
DTEND;TZID=America/New_York:20260603T200000
DTSTAMP:20260422T003320
CREATED:20241226T023424Z
LAST-MODIFIED:20250408T173906Z
UID:11155-1780513200-1780516800@lakeworth.sunlightchurch.com
SUMMARY:Men's Group
DESCRIPTION:
URL:https://lakeworth.sunlightchurch.com/calendar/mens-group-212/
END:VEVENT
BEGIN:VEVENT
DTSTART;TZID=America/New_York:20260603T190000
DTEND;TZID=America/New_York:20260603T203000
DTSTAMP:20260422T003320
CREATED:20241226T023423Z
LAST-MODIFIED:20250408T173904Z
UID:11154-1780513200-1780518600@lakeworth.sunlightchurch.com
SUMMARY:Alcoholics Anonymous
DESCRIPTION:
URL:https://lakeworth.sunlightchurch.com/calendar/alcoholics-anonymous-136/
END:VEVENT
BEGIN:VEVENT
DTSTART;TZID=America/New_York:20260607T100000
DTEND;TZID=America/New_York:20260607T110000
DTSTAMP:20260422T003320
CREATED:20241230T031610Z
LAST-MODIFIED:20250408T173907Z
UID:11162-1780826400-1780830000@lakeworth.sunlightchurch.com
SUMMARY:Worship Service
DESCRIPTION:
URL:https://lakeworth.sunlightchurch.com/calendar/worship-service-136/
END:VEVENT
BEGIN:VEVENT
DTSTART;TZID=America/New_York:20260609T190000
DTEND;TZID=America/New_York:20260609T203000
DTSTAMP:20260422T003320
CREATED:20250101T031532Z
LAST-MODIFIED:20250408T173907Z
UID:11166-1781031600-1781037000@lakeworth.sunlightchurch.com
SUMMARY:Faith Alive - Women's Bible Study - Upper Room
DESCRIPTION:
URL:https://lakeworth.sunlightchurch.com/calendar/faith-alive-womens-bible-study-upper-room-125/
LOCATION:1325 N Federal Hwy\, 1700 Lake Worth Rd\, Lake Worth\, FL\, United States
END:VEVENT
BEGIN:VEVENT
DTSTART;TZID=America/New_York:20260610T190000
DTEND;TZID=America/New_York:20260610T200000
DTSTAMP:20260422T003320
CREATED:20250102T033147Z
LAST-MODIFIED:20250408T173907Z
UID:11170-1781118000-1781121600@lakeworth.sunlightchurch.com
SUMMARY:Men's Group
DESCRIPTION:
URL:https://lakeworth.sunlightchurch.com/calendar/mens-group-213/
END:VEVENT
BEGIN:VEVENT
DTSTART;TZID=America/New_York:20260610T190000
DTEND;TZID=America/New_York:20260610T203000
DTSTAMP:20260422T003320
CREATED:20250102T033146Z
LAST-MODIFIED:20250408T173907Z
UID:11169-1781118000-1781123400@lakeworth.sunlightchurch.com
SUMMARY:Alcoholics Anonymous
DESCRIPTION:
URL:https://lakeworth.sunlightchurch.com/calendar/alcoholics-anonymous-137/
END:VEVENT
BEGIN:VEVENT
DTSTART;TZID=America/New_York:20260614T100000
DTEND;TZID=America/New_York:20260614T110000
DTSTAMP:20260422T003320
CREATED:20250106T034632Z
LAST-MODIFIED:20250408T173907Z
UID:11177-1781431200-1781434800@lakeworth.sunlightchurch.com
SUMMARY:Worship Service
DESCRIPTION:
URL:https://lakeworth.sunlightchurch.com/calendar/worship-service-137/
END:VEVENT
BEGIN:VEVENT
DTSTART;TZID=America/New_York:20260616T190000
DTEND;TZID=America/New_York:20260616T203000
DTSTAMP:20260422T003320
CREATED:20250108T035930Z
LAST-MODIFIED:20250408T173907Z
UID:11181-1781636400-1781641800@lakeworth.sunlightchurch.com
SUMMARY:Faith Alive - Women's Bible Study - Upper Room
DESCRIPTION:
URL:https://lakeworth.sunlightchurch.com/calendar/faith-alive-womens-bible-study-upper-room-126/
LOCATION:1325 N Federal Hwy\, 1700 Lake Worth Rd\, Lake Worth\, FL\, United States
END:VEVENT
BEGIN:VEVENT
DTSTART;TZID=America/New_York:20260617T190000
DTEND;TZID=America/New_York:20260617T200000
DTSTAMP:20260422T003320
CREATED:20250109T042426Z
LAST-MODIFIED:20250408T173907Z
UID:11185-1781722800-1781726400@lakeworth.sunlightchurch.com
SUMMARY:Men's Group
DESCRIPTION:
URL:https://lakeworth.sunlightchurch.com/calendar/mens-group-214/
END:VEVENT
BEGIN:VEVENT
DTSTART;TZID=America/New_York:20260617T190000
DTEND;TZID=America/New_York:20260617T203000
DTSTAMP:20260422T003320
CREATED:20250109T042426Z
LAST-MODIFIED:20250408T173907Z
UID:11184-1781722800-1781728200@lakeworth.sunlightchurch.com
SUMMARY:Alcoholics Anonymous
DESCRIPTION:
URL:https://lakeworth.sunlightchurch.com/calendar/alcoholics-anonymous-138/
END:VEVENT
BEGIN:VEVENT
DTSTART;TZID=America/New_York:20260621T100000
DTEND;TZID=America/New_York:20260621T110000
DTSTAMP:20260422T003320
CREATED:20250113T070844Z
LAST-MODIFIED:20250408T173907Z
UID:11192-1782036000-1782039600@lakeworth.sunlightchurch.com
SUMMARY:Worship Service
DESCRIPTION:
URL:https://lakeworth.sunlightchurch.com/calendar/worship-service-138/
END:VEVENT
BEGIN:VEVENT
DTSTART;TZID=America/New_York:20260623T190000
DTEND;TZID=America/New_York:20260623T203000
DTSTAMP:20260422T003320
CREATED:20250115T073144Z
LAST-MODIFIED:20250408T173908Z
UID:11196-1782241200-1782246600@lakeworth.sunlightchurch.com
SUMMARY:Faith Alive - Women's Bible Study - Upper Room
DESCRIPTION:
URL:https://lakeworth.sunlightchurch.com/calendar/faith-alive-womens-bible-study-upper-room-127/
LOCATION:1325 N Federal Hwy\, 1700 Lake Worth Rd\, Lake Worth\, FL\, United States
END:VEVENT
BEGIN:VEVENT
DTSTART;TZID=America/New_York:20260624T190000
DTEND;TZID=America/New_York:20260624T200000
DTSTAMP:20260422T003320
CREATED:20250116T073353Z
LAST-MODIFIED:20250408T173908Z
UID:11200-1782327600-1782331200@lakeworth.sunlightchurch.com
SUMMARY:Men's Group
DESCRIPTION:
URL:https://lakeworth.sunlightchurch.com/calendar/mens-group-215/
END:VEVENT
BEGIN:VEVENT
DTSTART;TZID=America/New_York:20260624T190000
DTEND;TZID=America/New_York:20260624T203000
DTSTAMP:20260422T003320
CREATED:20250116T073353Z
LAST-MODIFIED:20250408T173908Z
UID:11199-1782327600-1782333000@lakeworth.sunlightchurch.com
SUMMARY:Alcoholics Anonymous
DESCRIPTION:
URL:https://lakeworth.sunlightchurch.com/calendar/alcoholics-anonymous-139/
END:VEVENT
BEGIN:VEVENT
DTSTART;TZID=America/New_York:20260628T100000
DTEND;TZID=America/New_York:20260628T110000
DTSTAMP:20260422T003320
CREATED:20250120T074706Z
LAST-MODIFIED:20250408T173908Z
UID:11207-1782640800-1782644400@lakeworth.sunlightchurch.com
SUMMARY:Worship Service
DESCRIPTION:
URL:https://lakeworth.sunlightchurch.com/calendar/worship-service-139/
END:VEVENT
BEGIN:VEVENT
DTSTART;TZID=America/New_York:20260630T190000
DTEND;TZID=America/New_York:20260630T203000
DTSTAMP:20260422T003320
CREATED:20250122T083327Z
LAST-MODIFIED:20250408T173908Z
UID:11211-1782846000-1782851400@lakeworth.sunlightchurch.com
SUMMARY:Faith Alive - Women's Bible Study - Upper Room
DESCRIPTION:
URL:https://lakeworth.sunlightchurch.com/calendar/faith-alive-womens-bible-study-upper-room-128/
LOCATION:1325 N Federal Hwy\, 1700 Lake Worth Rd\, Lake Worth\, FL\, United States
END:VEVENT
END:VCALENDAR