BEGIN:VCALENDAR
VERSION:2.0
PRODID:-//Sunlight Lake Worth - ECPv6.15.20//NONSGML v1.0//EN
CALSCALE:GREGORIAN
METHOD:PUBLISH
X-ORIGINAL-URL:https://lakeworth.sunlightchurch.com/pt
X-WR-CALDESC:Eventos para Sunlight Lake Worth
REFRESH-INTERVAL;VALUE=DURATION:PT1H
X-Robots-Tag:noindex
X-PUBLISHED-TTL:PT1H
BEGIN:VTIMEZONE
TZID:America/New_York
BEGIN:DAYLIGHT
TZOFFSETFROM:-0500
TZOFFSETTO:-0400
TZNAME:EDT
DTSTART:20250309T070000
END:DAYLIGHT
BEGIN:STANDARD
TZOFFSETFROM:-0400
TZOFFSETTO:-0500
TZNAME:EST
DTSTART:20251102T060000
END:STANDARD
BEGIN:DAYLIGHT
TZOFFSETFROM:-0500
TZOFFSETTO:-0400
TZNAME:EDT
DTSTART:20260308T070000
END:DAYLIGHT
BEGIN:STANDARD
TZOFFSETFROM:-0400
TZOFFSETTO:-0500
TZNAME:EST
DTSTART:20261101T060000
END:STANDARD
BEGIN:DAYLIGHT
TZOFFSETFROM:-0500
TZOFFSETTO:-0400
TZNAME:EDT
DTSTART:20270314T070000
END:DAYLIGHT
BEGIN:STANDARD
TZOFFSETFROM:-0400
TZOFFSETTO:-0500
TZNAME:EST
DTSTART:20271107T060000
END:STANDARD
END:VTIMEZONE
BEGIN:VEVENT
DTSTART;TZID=America/New_York:20260422T190000
DTEND;TZID=America/New_York:20260422T203000
DTSTAMP:20260423T032137
CREATED:20241114T171833Z
LAST-MODIFIED:20250615T220609Z
UID:10001575-1776884400-1776889800@lakeworth.sunlightchurch.com
SUMMARY:Alcoholics Anonymous
DESCRIPTION:
URL:https://lakeworth.sunlightchurch.com/pt/calendar/alcoholics-anonymous-130/
END:VEVENT
BEGIN:VEVENT
DTSTART;TZID=America/New_York:20260422T190000
DTEND;TZID=America/New_York:20260422T200000
DTSTAMP:20260423T032137
CREATED:20250508T193041Z
LAST-MODIFIED:20250615T220609Z
UID:10001868-1776884400-1776888000@lakeworth.sunlightchurch.com
SUMMARY:Men's Group
DESCRIPTION:
URL:https://lakeworth.sunlightchurch.com/pt/calendar/mens-group-329/
END:VEVENT
BEGIN:VEVENT
DTSTART;TZID=America/New_York:20260422T190000
DTEND;TZID=America/New_York:20260422T200000
DTSTAMP:20260423T032137
CREATED:20241114T171834Z
LAST-MODIFIED:20250408T173902Z
UID:10001576-1776884400-1776888000@lakeworth.sunlightchurch.com
SUMMARY:Men's Group
DESCRIPTION:
URL:https://lakeworth.sunlightchurch.com/pt/calendar/mens-group-206/
END:VEVENT
BEGIN:VEVENT
DTSTART;TZID=America/New_York:20260421T190000
DTEND;TZID=America/New_York:20260421T203000
DTSTAMP:20260423T032137
CREATED:20241113T171628Z
LAST-MODIFIED:20250615T220609Z
UID:10001574-1776798000-1776803400@lakeworth.sunlightchurch.com
SUMMARY:Faith Alive - Women's Bible Study - Upper Room
DESCRIPTION:
URL:https://lakeworth.sunlightchurch.com/pt/calendar/faith-alive-womens-bible-study-upper-room-118/
LOCATION:1325 N Federal Hwy\, 1700 Lake Worth Rd\, Lake Worth\, FL\, United States
GEO:26.616678;-80.065083
X-APPLE-STRUCTURED-LOCATION;VALUE=URI;X-ADDRESS=1325 N Federal Hwy 1700 Lake Worth Rd Lake Worth FL United States;X-APPLE-RADIUS=500;X-TITLE=1700 Lake Worth Rd:geo:-80.065083,26.616678
END:VEVENT
BEGIN:VEVENT
DTSTART;TZID=America/New_York:20260419T111500
DTEND;TZID=America/New_York:20260419T121500
DTSTAMP:20260423T032137
CREATED:20250504T193030Z
LAST-MODIFIED:20250615T220609Z
UID:10001867-1776597300-1776600900@lakeworth.sunlightchurch.com
SUMMARY:Sunlight Espanol
DESCRIPTION:
URL:https://lakeworth.sunlightchurch.com/pt/calendar/sunlight-espanol-54/
LOCATION:1325 N A Street
END:VEVENT
BEGIN:VEVENT
DTSTART;TZID=America/New_York:20260419T100000
DTEND;TZID=America/New_York:20260419T110000
DTSTAMP:20260423T032137
CREATED:20241110T163555Z
LAST-MODIFIED:20250615T220609Z
UID:10001497-1776592800-1776596400@lakeworth.sunlightchurch.com
SUMMARY:Worship Service
DESCRIPTION:
URL:https://lakeworth.sunlightchurch.com/pt/calendar/worship-service-129/
END:VEVENT
BEGIN:VEVENT
DTSTART;TZID=America/New_York:20260416T190000
DTEND;TZID=America/New_York:20260416T200000
DTSTAMP:20260423T032137
CREATED:20250502T193051Z
LAST-MODIFIED:20250615T220608Z
UID:10001866-1776366000-1776369600@lakeworth.sunlightchurch.com
SUMMARY:Recovery Church
DESCRIPTION:
URL:https://lakeworth.sunlightchurch.com/pt/calendar/recovery-church-54/
LOCATION:1325 N A Street
END:VEVENT
BEGIN:VEVENT
DTSTART;TZID=America/New_York:20260416T190000
DTEND;TZID=America/New_York:20260416T200000
DTSTAMP:20260423T032137
CREATED:20241108T161705Z
LAST-MODIFIED:20241112T170354Z
UID:10001496-1776366000-1776369600@lakeworth.sunlightchurch.com
SUMMARY:Men's Group
DESCRIPTION:
URL:https://lakeworth.sunlightchurch.com/pt/calendar/mens-group-129/
END:VEVENT
BEGIN:VEVENT
DTSTART;TZID=America/New_York:20260415T190000
DTEND;TZID=America/New_York:20260415T203000
DTSTAMP:20260423T032137
CREATED:20241107T161936Z
LAST-MODIFIED:20250615T220608Z
UID:10001495-1776279600-1776285000@lakeworth.sunlightchurch.com
SUMMARY:Alcoholics Anonymous
DESCRIPTION:
URL:https://lakeworth.sunlightchurch.com/pt/calendar/alcoholics-anonymous-129/
END:VEVENT
BEGIN:VEVENT
DTSTART;TZID=America/New_York:20260415T190000
DTEND;TZID=America/New_York:20260415T200000
DTSTAMP:20260423T032137
CREATED:20250501T193120Z
LAST-MODIFIED:20250615T220556Z
UID:10001865-1776279600-1776283200@lakeworth.sunlightchurch.com
SUMMARY:Men's Group
DESCRIPTION:
URL:https://lakeworth.sunlightchurch.com/pt/calendar/mens-group-328/
END:VEVENT
BEGIN:VEVENT
DTSTART;TZID=America/New_York:20260415T190000
DTEND;TZID=America/New_York:20260415T200000
DTSTAMP:20260423T032137
CREATED:20241113T171627Z
LAST-MODIFIED:20250408T173901Z
UID:10001573-1776279600-1776283200@lakeworth.sunlightchurch.com
SUMMARY:Men's Group
DESCRIPTION:
URL:https://lakeworth.sunlightchurch.com/pt/calendar/mens-group-205/
END:VEVENT
BEGIN:VEVENT
DTSTART;TZID=America/New_York:20260414T190000
DTEND;TZID=America/New_York:20260414T203000
DTSTAMP:20260423T032137
CREATED:20241106T161646Z
LAST-MODIFIED:20250615T220556Z
UID:10001494-1776193200-1776198600@lakeworth.sunlightchurch.com
SUMMARY:Faith Alive - Women's Bible Study - Upper Room
DESCRIPTION:
URL:https://lakeworth.sunlightchurch.com/pt/calendar/faith-alive-womens-bible-study-upper-room-117/
LOCATION:1325 N Federal Hwy\, 1700 Lake Worth Rd\, Lake Worth\, FL\, United States
GEO:26.616678;-80.065083
X-APPLE-STRUCTURED-LOCATION;VALUE=URI;X-ADDRESS=1325 N Federal Hwy 1700 Lake Worth Rd Lake Worth FL United States;X-APPLE-RADIUS=500;X-TITLE=1700 Lake Worth Rd:geo:-80.065083,26.616678
END:VEVENT
BEGIN:VEVENT
DTSTART;TZID=America/New_York:20260412T111500
DTEND;TZID=America/New_York:20260412T121500
DTSTAMP:20260423T032137
CREATED:20250427T191542Z
LAST-MODIFIED:20250615T220556Z
UID:10001864-1775992500-1775996100@lakeworth.sunlightchurch.com
SUMMARY:Sunlight Espanol
DESCRIPTION:
URL:https://lakeworth.sunlightchurch.com/pt/calendar/sunlight-espanol-53/
LOCATION:1325 N A Street
END:VEVENT
BEGIN:VEVENT
DTSTART;TZID=America/New_York:20260412T100000
DTEND;TZID=America/New_York:20260412T110000
DTSTAMP:20260423T032137
CREATED:20241103T161758Z
LAST-MODIFIED:20250615T220556Z
UID:10001493-1775988000-1775991600@lakeworth.sunlightchurch.com
SUMMARY:Worship Service
DESCRIPTION:
URL:https://lakeworth.sunlightchurch.com/pt/calendar/worship-service-128/
END:VEVENT
BEGIN:VEVENT
DTSTART;TZID=America/New_York:20260409T190000
DTEND;TZID=America/New_York:20260409T200000
DTSTAMP:20260423T032137
CREATED:20250425T184623Z
LAST-MODIFIED:20250615T220556Z
UID:10001863-1775761200-1775764800@lakeworth.sunlightchurch.com
SUMMARY:Recovery Church
DESCRIPTION:
URL:https://lakeworth.sunlightchurch.com/pt/calendar/recovery-church-53/
LOCATION:1325 N A Street
END:VEVENT
BEGIN:VEVENT
DTSTART;TZID=America/New_York:20260409T190000
DTEND;TZID=America/New_York:20260409T200000
DTSTAMP:20260423T032137
CREATED:20241101T160602Z
LAST-MODIFIED:20241112T170353Z
UID:10001492-1775761200-1775764800@lakeworth.sunlightchurch.com
SUMMARY:Men's Group
DESCRIPTION:
URL:https://lakeworth.sunlightchurch.com/pt/calendar/mens-group-128/
END:VEVENT
BEGIN:VEVENT
DTSTART;TZID=America/New_York:20260408T190000
DTEND;TZID=America/New_York:20260408T203000
DTSTAMP:20260423T032137
CREATED:20241031T154644Z
LAST-MODIFIED:20250615T220556Z
UID:10001491-1775674800-1775680200@lakeworth.sunlightchurch.com
SUMMARY:Alcoholics Anonymous
DESCRIPTION:
URL:https://lakeworth.sunlightchurch.com/pt/calendar/alcoholics-anonymous-128/
END:VEVENT
BEGIN:VEVENT
DTSTART;TZID=America/New_York:20260408T190000
DTEND;TZID=America/New_York:20260408T200000
DTSTAMP:20260423T032137
CREATED:20250424T183115Z
LAST-MODIFIED:20250615T220556Z
UID:10001862-1775674800-1775678400@lakeworth.sunlightchurch.com
SUMMARY:Men's Group
DESCRIPTION:
URL:https://lakeworth.sunlightchurch.com/pt/calendar/mens-group-327/
END:VEVENT
BEGIN:VEVENT
DTSTART;TZID=America/New_York:20260408T190000
DTEND;TZID=America/New_York:20260408T200000
DTSTAMP:20260423T032137
CREATED:20241113T171627Z
LAST-MODIFIED:20250408T173901Z
UID:10001572-1775674800-1775678400@lakeworth.sunlightchurch.com
SUMMARY:Men's Group
DESCRIPTION:
URL:https://lakeworth.sunlightchurch.com/pt/calendar/mens-group-204/
END:VEVENT
BEGIN:VEVENT
DTSTART;TZID=America/New_York:20260407T190000
DTEND;TZID=America/New_York:20260407T203000
DTSTAMP:20260423T032137
CREATED:20241030T154534Z
LAST-MODIFIED:20250615T220556Z
UID:10001490-1775588400-1775593800@lakeworth.sunlightchurch.com
SUMMARY:Faith Alive - Women's Bible Study - Upper Room
DESCRIPTION:
URL:https://lakeworth.sunlightchurch.com/pt/calendar/faith-alive-womens-bible-study-upper-room-116/
LOCATION:1325 N Federal Hwy\, 1700 Lake Worth Rd\, Lake Worth\, FL\, United States
GEO:26.616678;-80.065083
X-APPLE-STRUCTURED-LOCATION;VALUE=URI;X-ADDRESS=1325 N Federal Hwy 1700 Lake Worth Rd Lake Worth FL United States;X-APPLE-RADIUS=500;X-TITLE=1700 Lake Worth Rd:geo:-80.065083,26.616678
END:VEVENT
BEGIN:VEVENT
DTSTART;TZID=America/New_York:20260405T111500
DTEND;TZID=America/New_York:20260405T121500
DTSTAMP:20260423T032137
CREATED:20250420T181829Z
LAST-MODIFIED:20250615T220556Z
UID:10001861-1775387700-1775391300@lakeworth.sunlightchurch.com
SUMMARY:Sunlight Espanol
DESCRIPTION:
URL:https://lakeworth.sunlightchurch.com/pt/calendar/sunlight-espanol-52/
LOCATION:1325 N A Street
END:VEVENT
BEGIN:VEVENT
DTSTART;TZID=America/New_York:20260405T100000
DTEND;TZID=America/New_York:20260405T110000
DTSTAMP:20260423T032137
CREATED:20241027T151749Z
LAST-MODIFIED:20250615T220555Z
UID:10001489-1775383200-1775386800@lakeworth.sunlightchurch.com
SUMMARY:Worship Service
DESCRIPTION:
URL:https://lakeworth.sunlightchurch.com/pt/calendar/worship-service-127/
END:VEVENT
BEGIN:VEVENT
DTSTART;TZID=America/New_York:20260402T190000
DTEND;TZID=America/New_York:20260402T200000
DTSTAMP:20260423T032137
CREATED:20250418T181543Z
LAST-MODIFIED:20250615T220544Z
UID:10001860-1775156400-1775160000@lakeworth.sunlightchurch.com
SUMMARY:Recovery Church
DESCRIPTION:
URL:https://lakeworth.sunlightchurch.com/pt/calendar/recovery-church-52/
LOCATION:1325 N A Street
END:VEVENT
BEGIN:VEVENT
DTSTART;TZID=America/New_York:20260402T190000
DTEND;TZID=America/New_York:20260402T200000
DTSTAMP:20260423T032137
CREATED:20241025T151538Z
LAST-MODIFIED:20241112T170352Z
UID:10001488-1775156400-1775160000@lakeworth.sunlightchurch.com
SUMMARY:Men's Group
DESCRIPTION:
URL:https://lakeworth.sunlightchurch.com/pt/calendar/mens-group-127/
END:VEVENT
BEGIN:VEVENT
DTSTART;TZID=America/New_York:20260401T190000
DTEND;TZID=America/New_York:20260401T203000
DTSTAMP:20260423T032137
CREATED:20241024T151714Z
LAST-MODIFIED:20250615T220544Z
UID:10001487-1775070000-1775075400@lakeworth.sunlightchurch.com
SUMMARY:Alcoholics Anonymous
DESCRIPTION:
URL:https://lakeworth.sunlightchurch.com/pt/calendar/alcoholics-anonymous-127/
END:VEVENT
BEGIN:VEVENT
DTSTART;TZID=America/New_York:20260401T190000
DTEND;TZID=America/New_York:20260401T200000
DTSTAMP:20260423T032137
CREATED:20250417T181539Z
LAST-MODIFIED:20250615T220544Z
UID:10001859-1775070000-1775073600@lakeworth.sunlightchurch.com
SUMMARY:Men's Group
DESCRIPTION:
URL:https://lakeworth.sunlightchurch.com/pt/calendar/mens-group-326/
END:VEVENT
BEGIN:VEVENT
DTSTART;TZID=America/New_York:20260401T190000
DTEND;TZID=America/New_York:20260401T200000
DTSTAMP:20260423T032137
CREATED:20241113T171626Z
LAST-MODIFIED:20250408T173901Z
UID:10001571-1775070000-1775073600@lakeworth.sunlightchurch.com
SUMMARY:Men's Group
DESCRIPTION:
URL:https://lakeworth.sunlightchurch.com/pt/calendar/mens-group-203/
END:VEVENT
BEGIN:VEVENT
DTSTART;TZID=America/New_York:20260331T190000
DTEND;TZID=America/New_York:20260331T203000
DTSTAMP:20260423T032137
CREATED:20241023T151636Z
LAST-MODIFIED:20250615T220544Z
UID:10001486-1774983600-1774989000@lakeworth.sunlightchurch.com
SUMMARY:Faith Alive - Women's Bible Study - Upper Room
DESCRIPTION:
URL:https://lakeworth.sunlightchurch.com/pt/calendar/faith-alive-womens-bible-study-upper-room-115/
LOCATION:1325 N Federal Hwy\, 1700 Lake Worth Rd\, Lake Worth\, FL\, United States
GEO:26.616678;-80.065083
X-APPLE-STRUCTURED-LOCATION;VALUE=URI;X-ADDRESS=1325 N Federal Hwy 1700 Lake Worth Rd Lake Worth FL United States;X-APPLE-RADIUS=500;X-TITLE=1700 Lake Worth Rd:geo:-80.065083,26.616678
END:VEVENT
BEGIN:VEVENT
DTSTART;TZID=America/New_York:20260329T111500
DTEND;TZID=America/New_York:20260329T121500
DTSTAMP:20260423T032137
CREATED:20250413T180055Z
LAST-MODIFIED:20250615T220544Z
UID:10001858-1774782900-1774786500@lakeworth.sunlightchurch.com
SUMMARY:Sunlight Espanol
DESCRIPTION:
URL:https://lakeworth.sunlightchurch.com/pt/calendar/sunlight-espanol-51/
LOCATION:1325 N A Street
END:VEVENT
BEGIN:VEVENT
DTSTART;TZID=America/New_York:20260329T100000
DTEND;TZID=America/New_York:20260329T110000
DTSTAMP:20260423T032137
CREATED:20241020T150053Z
LAST-MODIFIED:20250615T220544Z
UID:10001485-1774778400-1774782000@lakeworth.sunlightchurch.com
SUMMARY:Worship Service
DESCRIPTION:
URL:https://lakeworth.sunlightchurch.com/pt/calendar/worship-service-126/
END:VEVENT
END:VCALENDAR