BEGIN:VCALENDAR
VERSION:2.0
PRODID:-//Sunlight Lake Worth - ECPv6.15.20//NONSGML v1.0//EN
CALSCALE:GREGORIAN
METHOD:PUBLISH
X-WR-CALNAME:Sunlight Lake Worth
X-ORIGINAL-URL:https://lakeworth.sunlightchurch.com
X-WR-CALDESC:Events for Sunlight Lake Worth
REFRESH-INTERVAL;VALUE=DURATION:PT1H
X-Robots-Tag:noindex
X-PUBLISHED-TTL:PT1H
BEGIN:VTIMEZONE
TZID:America/New_York
BEGIN:DAYLIGHT
TZOFFSETFROM:-0500
TZOFFSETTO:-0400
TZNAME:EDT
DTSTART:20250309T070000
END:DAYLIGHT
BEGIN:STANDARD
TZOFFSETFROM:-0400
TZOFFSETTO:-0500
TZNAME:EST
DTSTART:20251102T060000
END:STANDARD
BEGIN:DAYLIGHT
TZOFFSETFROM:-0500
TZOFFSETTO:-0400
TZNAME:EDT
DTSTART:20260308T070000
END:DAYLIGHT
BEGIN:STANDARD
TZOFFSETFROM:-0400
TZOFFSETTO:-0500
TZNAME:EST
DTSTART:20261101T060000
END:STANDARD
BEGIN:DAYLIGHT
TZOFFSETFROM:-0500
TZOFFSETTO:-0400
TZNAME:EDT
DTSTART:20270314T070000
END:DAYLIGHT
BEGIN:STANDARD
TZOFFSETFROM:-0400
TZOFFSETTO:-0500
TZNAME:EST
DTSTART:20271107T060000
END:STANDARD
END:VTIMEZONE
BEGIN:VEVENT
DTSTART;TZID=America/New_York:20260423T190000
DTEND;TZID=America/New_York:20260423T200000
DTSTAMP:20260422T222007
CREATED:20250509T194549Z
LAST-MODIFIED:20250615T220609Z
UID:10001869-1776970800-1776974400@lakeworth.sunlightchurch.com
SUMMARY:Recovery Church
DESCRIPTION:
URL:https://lakeworth.sunlightchurch.com/calendar/recovery-church-55/
LOCATION:1325 N A Street
END:VEVENT
BEGIN:VEVENT
DTSTART;TZID=America/New_York:20260426T111500
DTEND;TZID=America/New_York:20260426T121500
DTSTAMP:20260422T222007
CREATED:20250511T194525Z
LAST-MODIFIED:20250615T220609Z
UID:10001870-1777202100-1777205700@lakeworth.sunlightchurch.com
SUMMARY:Sunlight Espanol
DESCRIPTION:
URL:https://lakeworth.sunlightchurch.com/calendar/sunlight-espanol-55/
LOCATION:1325 N A Street
END:VEVENT
BEGIN:VEVENT
DTSTART;TZID=America/New_York:20260430T190000
DTEND;TZID=America/New_York:20260430T200000
DTSTAMP:20260422T222007
CREATED:20250516T200030Z
LAST-MODIFIED:20250615T220623Z
UID:10001872-1777575600-1777579200@lakeworth.sunlightchurch.com
SUMMARY:Recovery Church
DESCRIPTION:
URL:https://lakeworth.sunlightchurch.com/calendar/recovery-church-56/
LOCATION:1325 N A Street
END:VEVENT
BEGIN:VEVENT
DTSTART;TZID=America/New_York:20260503T111500
DTEND;TZID=America/New_York:20260503T121500
DTSTAMP:20260422T222007
CREATED:20250518T201742Z
LAST-MODIFIED:20250615T220624Z
UID:10001873-1777806900-1777810500@lakeworth.sunlightchurch.com
SUMMARY:Sunlight Espanol
DESCRIPTION:
URL:https://lakeworth.sunlightchurch.com/calendar/sunlight-espanol-56/
LOCATION:1325 N A Street
END:VEVENT
BEGIN:VEVENT
DTSTART;TZID=America/New_York:20260507T190000
DTEND;TZID=America/New_York:20260507T200000
DTSTAMP:20260422T222007
CREATED:20250523T204548Z
LAST-MODIFIED:20250615T220624Z
UID:10001875-1778180400-1778184000@lakeworth.sunlightchurch.com
SUMMARY:Recovery Church
DESCRIPTION:
URL:https://lakeworth.sunlightchurch.com/calendar/recovery-church-57/
LOCATION:1325 N A Street
END:VEVENT
BEGIN:VEVENT
DTSTART;TZID=America/New_York:20260510T111500
DTEND;TZID=America/New_York:20260510T121500
DTSTAMP:20260422T222007
CREATED:20250525T211552Z
LAST-MODIFIED:20250615T220635Z
UID:10001876-1778411700-1778415300@lakeworth.sunlightchurch.com
SUMMARY:Sunlight Espanol
DESCRIPTION:
URL:https://lakeworth.sunlightchurch.com/calendar/sunlight-espanol-57/
LOCATION:1325 N A Street
END:VEVENT
BEGIN:VEVENT
DTSTART;TZID=America/New_York:20260514T190000
DTEND;TZID=America/New_York:20260514T200000
DTSTAMP:20260422T222007
CREATED:20250530T213042Z
LAST-MODIFIED:20250615T220636Z
UID:10001878-1778785200-1778788800@lakeworth.sunlightchurch.com
SUMMARY:Recovery Church
DESCRIPTION:
URL:https://lakeworth.sunlightchurch.com/calendar/recovery-church-58/
LOCATION:1325 N A Street
END:VEVENT
BEGIN:VEVENT
DTSTART;TZID=America/New_York:20260517T111500
DTEND;TZID=America/New_York:20260517T121500
DTSTAMP:20260422T222007
CREATED:20250601T213034Z
LAST-MODIFIED:20250615T220636Z
UID:10001879-1779016500-1779020100@lakeworth.sunlightchurch.com
SUMMARY:Sunlight Espanol
DESCRIPTION:
URL:https://lakeworth.sunlightchurch.com/calendar/sunlight-espanol-58/
LOCATION:1325 N A Street
END:VEVENT
BEGIN:VEVENT
DTSTART;TZID=America/New_York:20260521T190000
DTEND;TZID=America/New_York:20260521T200000
DTSTAMP:20260422T222007
CREATED:20250606T213023Z
LAST-MODIFIED:20250615T220649Z
UID:10001881-1779390000-1779393600@lakeworth.sunlightchurch.com
SUMMARY:Recovery Church
DESCRIPTION:
URL:https://lakeworth.sunlightchurch.com/calendar/recovery-church-59/
LOCATION:1325 N A Street
END:VEVENT
BEGIN:VEVENT
DTSTART;TZID=America/New_York:20260524T111500
DTEND;TZID=America/New_York:20260524T121500
DTSTAMP:20260422T222007
CREATED:20250608T213023Z
LAST-MODIFIED:20250615T220649Z
UID:10001882-1779621300-1779624900@lakeworth.sunlightchurch.com
SUMMARY:Sunlight Espanol
DESCRIPTION:
URL:https://lakeworth.sunlightchurch.com/calendar/sunlight-espanol-59/
LOCATION:1325 N A Street
END:VEVENT
BEGIN:VEVENT
DTSTART;TZID=America/New_York:20260528T190000
DTEND;TZID=America/New_York:20260528T200000
DTSTAMP:20260422T222007
CREATED:20250613T214539Z
LAST-MODIFIED:20250615T220650Z
UID:10001884-1779994800-1779998400@lakeworth.sunlightchurch.com
SUMMARY:Recovery Church
DESCRIPTION:
URL:https://lakeworth.sunlightchurch.com/calendar/recovery-church-60/
LOCATION:1325 N A Street
END:VEVENT
BEGIN:VEVENT
DTSTART;TZID=America/New_York:20260531T111500
DTEND;TZID=America/New_York:20260531T121500
DTSTAMP:20260422T222007
CREATED:20250615T220058Z
LAST-MODIFIED:20250615T220650Z
UID:10001885-1780226100-1780229700@lakeworth.sunlightchurch.com
SUMMARY:Sunlight Espanol
DESCRIPTION:
URL:https://lakeworth.sunlightchurch.com/calendar/sunlight-espanol-60/
LOCATION:1325 N A Street
END:VEVENT
END:VCALENDAR