BEGIN:VCALENDAR
VERSION:2.0
PRODID:-//Sunlight Lake Worth - ECPv6.15.20//NONSGML v1.0//EN
CALSCALE:GREGORIAN
METHOD:PUBLISH
X-WR-CALNAME:Sunlight Lake Worth
X-ORIGINAL-URL:https://lakeworth.sunlightchurch.com
X-WR-CALDESC:Events for Sunlight Lake Worth
REFRESH-INTERVAL;VALUE=DURATION:PT1H
X-Robots-Tag:noindex
X-PUBLISHED-TTL:PT1H
BEGIN:VTIMEZONE
TZID:America/New_York
BEGIN:DAYLIGHT
TZOFFSETFROM:-0500
TZOFFSETTO:-0400
TZNAME:EDT
DTSTART:20240310T070000
END:DAYLIGHT
BEGIN:STANDARD
TZOFFSETFROM:-0400
TZOFFSETTO:-0500
TZNAME:EST
DTSTART:20241103T060000
END:STANDARD
BEGIN:DAYLIGHT
TZOFFSETFROM:-0500
TZOFFSETTO:-0400
TZNAME:EDT
DTSTART:20250309T070000
END:DAYLIGHT
BEGIN:STANDARD
TZOFFSETFROM:-0400
TZOFFSETTO:-0500
TZNAME:EST
DTSTART:20251102T060000
END:STANDARD
BEGIN:DAYLIGHT
TZOFFSETFROM:-0500
TZOFFSETTO:-0400
TZNAME:EDT
DTSTART:20260308T070000
END:DAYLIGHT
BEGIN:STANDARD
TZOFFSETFROM:-0400
TZOFFSETTO:-0500
TZNAME:EST
DTSTART:20261101T060000
END:STANDARD
END:VTIMEZONE
BEGIN:VEVENT
DTSTART;TZID=America/New_York:20250810T111500
DTEND;TZID=America/New_York:20250810T121500
DTSTAMP:20260423T165707
CREATED:20250409T174725Z
LAST-MODIFIED:20250615T220123Z
UID:10001711-1754824500-1754828100@lakeworth.sunlightchurch.com
SUMMARY:Sunlight Espanol
DESCRIPTION:
URL:https://lakeworth.sunlightchurch.com/calendar/sunlight-espanol-18/
LOCATION:1325 N A Street
END:VEVENT
BEGIN:VEVENT
DTSTART;TZID=America/New_York:20250807T190000
DTEND;TZID=America/New_York:20250807T200000
DTSTAMP:20260423T165707
CREATED:20250409T174725Z
LAST-MODIFIED:20250615T220123Z
UID:10001710-1754593200-1754596800@lakeworth.sunlightchurch.com
SUMMARY:Recovery Church
DESCRIPTION:
URL:https://lakeworth.sunlightchurch.com/calendar/recovery-church-18/
LOCATION:1325 N A Street
END:VEVENT
BEGIN:VEVENT
DTSTART;TZID=America/New_York:20250803T111500
DTEND;TZID=America/New_York:20250803T121500
DTSTAMP:20260423T165707
CREATED:20250409T174724Z
LAST-MODIFIED:20250615T220123Z
UID:10001708-1754219700-1754223300@lakeworth.sunlightchurch.com
SUMMARY:Sunlight Espanol
DESCRIPTION:
URL:https://lakeworth.sunlightchurch.com/calendar/sunlight-espanol-17/
LOCATION:1325 N A Street
END:VEVENT
BEGIN:VEVENT
DTSTART;TZID=America/New_York:20250731T190000
DTEND;TZID=America/New_York:20250731T200000
DTSTAMP:20260423T165707
CREATED:20250409T174724Z
LAST-MODIFIED:20250615T220110Z
UID:10001707-1753988400-1753992000@lakeworth.sunlightchurch.com
SUMMARY:Recovery Church
DESCRIPTION:
URL:https://lakeworth.sunlightchurch.com/calendar/recovery-church-17/
LOCATION:1325 N A Street
END:VEVENT
BEGIN:VEVENT
DTSTART;TZID=America/New_York:20250727T111500
DTEND;TZID=America/New_York:20250727T121500
DTSTAMP:20260423T165707
CREATED:20250409T174724Z
LAST-MODIFIED:20250615T220110Z
UID:10001705-1753614900-1753618500@lakeworth.sunlightchurch.com
SUMMARY:Sunlight Espanol
DESCRIPTION:
URL:https://lakeworth.sunlightchurch.com/calendar/sunlight-espanol-16/
LOCATION:1325 N A Street
END:VEVENT
BEGIN:VEVENT
DTSTART;TZID=America/New_York:20250724T190000
DTEND;TZID=America/New_York:20250724T200000
DTSTAMP:20260423T165707
CREATED:20250409T174724Z
LAST-MODIFIED:20250615T220109Z
UID:10001704-1753383600-1753387200@lakeworth.sunlightchurch.com
SUMMARY:Recovery Church
DESCRIPTION:
URL:https://lakeworth.sunlightchurch.com/calendar/recovery-church-16/
LOCATION:1325 N A Street
END:VEVENT
BEGIN:VEVENT
DTSTART;TZID=America/New_York:20250720T111500
DTEND;TZID=America/New_York:20250720T121500
DTSTAMP:20260423T165707
CREATED:20250409T174723Z
LAST-MODIFIED:20250615T220058Z
UID:10001702-1753010100-1753013700@lakeworth.sunlightchurch.com
SUMMARY:Sunlight Espanol
DESCRIPTION:
URL:https://lakeworth.sunlightchurch.com/calendar/sunlight-espanol-15/
LOCATION:1325 N A Street
END:VEVENT
BEGIN:VEVENT
DTSTART;TZID=America/New_York:20250717T190000
DTEND;TZID=America/New_York:20250717T200000
DTSTAMP:20260423T165707
CREATED:20250409T174723Z
LAST-MODIFIED:20250615T220058Z
UID:10001701-1752778800-1752782400@lakeworth.sunlightchurch.com
SUMMARY:Recovery Church
DESCRIPTION:
URL:https://lakeworth.sunlightchurch.com/calendar/recovery-church-15/
LOCATION:1325 N A Street
END:VEVENT
BEGIN:VEVENT
DTSTART;TZID=America/New_York:20250713T111500
DTEND;TZID=America/New_York:20250713T121500
DTSTAMP:20260423T165707
CREATED:20250409T174723Z
LAST-MODIFIED:20250615T220058Z
UID:10001699-1752405300-1752408900@lakeworth.sunlightchurch.com
SUMMARY:Sunlight Espanol
DESCRIPTION:
URL:https://lakeworth.sunlightchurch.com/calendar/sunlight-espanol-14/
LOCATION:1325 N A Street
END:VEVENT
BEGIN:VEVENT
DTSTART;TZID=America/New_York:20250710T190000
DTEND;TZID=America/New_York:20250710T200000
DTSTAMP:20260423T165707
CREATED:20250409T174723Z
LAST-MODIFIED:20250615T220058Z
UID:10001698-1752174000-1752177600@lakeworth.sunlightchurch.com
SUMMARY:Recovery Church
DESCRIPTION:
URL:https://lakeworth.sunlightchurch.com/calendar/recovery-church-14/
LOCATION:1325 N A Street
END:VEVENT
BEGIN:VEVENT
DTSTART;TZID=America/New_York:20250706T111500
DTEND;TZID=America/New_York:20250706T121500
DTSTAMP:20260423T165707
CREATED:20250409T174722Z
LAST-MODIFIED:20250615T220046Z
UID:10001696-1751800500-1751804100@lakeworth.sunlightchurch.com
SUMMARY:Sunlight Espanol
DESCRIPTION:
URL:https://lakeworth.sunlightchurch.com/calendar/sunlight-espanol-13/
LOCATION:1325 N A Street
END:VEVENT
BEGIN:VEVENT
DTSTART;TZID=America/New_York:20250703T190000
DTEND;TZID=America/New_York:20250703T200000
DTSTAMP:20260423T165707
CREATED:20250409T174722Z
LAST-MODIFIED:20250615T220046Z
UID:10001695-1751569200-1751572800@lakeworth.sunlightchurch.com
SUMMARY:Recovery Church
DESCRIPTION:
URL:https://lakeworth.sunlightchurch.com/calendar/recovery-church-13/
LOCATION:1325 N A Street
END:VEVENT
BEGIN:VEVENT
DTSTART;TZID=America/New_York:20250629T111500
DTEND;TZID=America/New_York:20250629T121500
DTSTAMP:20260423T165707
CREATED:20250409T174722Z
LAST-MODIFIED:20250615T220045Z
UID:10001693-1751195700-1751199300@lakeworth.sunlightchurch.com
SUMMARY:Sunlight Espanol
DESCRIPTION:
URL:https://lakeworth.sunlightchurch.com/calendar/sunlight-espanol-12/
LOCATION:1325 N A Street
END:VEVENT
BEGIN:VEVENT
DTSTART;TZID=America/New_York:20250626T190000
DTEND;TZID=America/New_York:20250626T200000
DTSTAMP:20260423T165707
CREATED:20250409T174722Z
LAST-MODIFIED:20250615T220034Z
UID:10001691-1750964400-1750968000@lakeworth.sunlightchurch.com
SUMMARY:Recovery Church
DESCRIPTION:
URL:https://lakeworth.sunlightchurch.com/calendar/recovery-church-12/
LOCATION:1325 N A Street
END:VEVENT
BEGIN:VEVENT
DTSTART;TZID=America/New_York:20250622T111500
DTEND;TZID=America/New_York:20250622T121500
DTSTAMP:20260423T165707
CREATED:20250409T174722Z
LAST-MODIFIED:20250615T220033Z
UID:10001690-1750590900-1750594500@lakeworth.sunlightchurch.com
SUMMARY:Sunlight Espanol
DESCRIPTION:
URL:https://lakeworth.sunlightchurch.com/calendar/sunlight-espanol-11/
LOCATION:1325 N A Street
END:VEVENT
BEGIN:VEVENT
DTSTART;TZID=America/New_York:20250619T190000
DTEND;TZID=America/New_York:20250619T200000
DTSTAMP:20260423T165707
CREATED:20250409T174721Z
LAST-MODIFIED:20250615T220033Z
UID:10001689-1750359600-1750363200@lakeworth.sunlightchurch.com
SUMMARY:Recovery Church
DESCRIPTION:
URL:https://lakeworth.sunlightchurch.com/calendar/recovery-church-11/
LOCATION:1325 N A Street
END:VEVENT
BEGIN:VEVENT
DTSTART;TZID=America/New_York:20250615T111500
DTEND;TZID=America/New_York:20250615T121500
DTSTAMP:20260423T165707
CREATED:20250409T174721Z
LAST-MODIFIED:20250614T214510Z
UID:10001687-1749986100-1749989700@lakeworth.sunlightchurch.com
SUMMARY:Sunlight Espanol
DESCRIPTION:
URL:https://lakeworth.sunlightchurch.com/calendar/sunlight-espanol-10/
LOCATION:1325 N A Street
END:VEVENT
BEGIN:VEVENT
DTSTART;TZID=America/New_York:20250612T190000
DTEND;TZID=America/New_York:20250612T200000
DTSTAMP:20260423T165707
CREATED:20250409T174721Z
LAST-MODIFIED:20250612T213151Z
UID:10001685-1749754800-1749758400@lakeworth.sunlightchurch.com
SUMMARY:Recovery Church
DESCRIPTION:
URL:https://lakeworth.sunlightchurch.com/calendar/recovery-church-10/
LOCATION:1325 N A Street
END:VEVENT
BEGIN:VEVENT
DTSTART;TZID=America/New_York:20250608T111500
DTEND;TZID=America/New_York:20250608T121500
DTSTAMP:20260423T165707
CREATED:20250409T174721Z
LAST-MODIFIED:20250607T213011Z
UID:10001684-1749381300-1749384900@lakeworth.sunlightchurch.com
SUMMARY:Sunlight Espanol
DESCRIPTION:
URL:https://lakeworth.sunlightchurch.com/calendar/sunlight-espanol-9/
LOCATION:1325 N A Street
END:VEVENT
BEGIN:VEVENT
DTSTART;TZID=America/New_York:20250605T190000
DTEND;TZID=America/New_York:20250605T200000
DTSTAMP:20260423T165707
CREATED:20250409T174720Z
LAST-MODIFIED:20250605T213001Z
UID:10001683-1749150000-1749153600@lakeworth.sunlightchurch.com
SUMMARY:Recovery Church
DESCRIPTION:
URL:https://lakeworth.sunlightchurch.com/calendar/recovery-church-9/
LOCATION:1325 N A Street
END:VEVENT
BEGIN:VEVENT
DTSTART;TZID=America/New_York:20250601T111500
DTEND;TZID=America/New_York:20250601T121500
DTSTAMP:20260423T165707
CREATED:20250409T174720Z
LAST-MODIFIED:20250531T213211Z
UID:10001681-1748776500-1748780100@lakeworth.sunlightchurch.com
SUMMARY:Sunlight Espanol
DESCRIPTION:
URL:https://lakeworth.sunlightchurch.com/calendar/sunlight-espanol-8/
LOCATION:1325 N A Street
END:VEVENT
BEGIN:VEVENT
DTSTART;TZID=America/New_York:20250529T190000
DTEND;TZID=America/New_York:20250529T200000
DTSTAMP:20260423T165707
CREATED:20250409T174720Z
LAST-MODIFIED:20250529T213010Z
UID:10001679-1748545200-1748548800@lakeworth.sunlightchurch.com
SUMMARY:Recovery Church
DESCRIPTION:
URL:https://lakeworth.sunlightchurch.com/calendar/recovery-church-8/
LOCATION:1325 N A Street
END:VEVENT
BEGIN:VEVENT
DTSTART;TZID=America/New_York:20250525T111500
DTEND;TZID=America/New_York:20250525T121500
DTSTAMP:20260423T165707
CREATED:20250409T174720Z
LAST-MODIFIED:20250524T210004Z
UID:10001678-1748171700-1748175300@lakeworth.sunlightchurch.com
SUMMARY:Sunlight Espanol
DESCRIPTION:
URL:https://lakeworth.sunlightchurch.com/calendar/sunlight-espanol-7/
LOCATION:1325 N A Street
END:VEVENT
BEGIN:VEVENT
DTSTART;TZID=America/New_York:20250522T190000
DTEND;TZID=America/New_York:20250522T200000
DTSTAMP:20260423T165707
CREATED:20250409T174719Z
LAST-MODIFIED:20250522T204459Z
UID:10001676-1747940400-1747944000@lakeworth.sunlightchurch.com
SUMMARY:Recovery Church
DESCRIPTION:
URL:https://lakeworth.sunlightchurch.com/calendar/recovery-church-7/
LOCATION:1325 N A Street
END:VEVENT
BEGIN:VEVENT
DTSTART;TZID=America/New_York:20250518T111500
DTEND;TZID=America/New_York:20250518T121500
DTSTAMP:20260423T165707
CREATED:20250409T174719Z
LAST-MODIFIED:20250517T200341Z
UID:10001675-1747566900-1747570500@lakeworth.sunlightchurch.com
SUMMARY:Sunlight Espanol
DESCRIPTION:
URL:https://lakeworth.sunlightchurch.com/calendar/sunlight-espanol-6/
LOCATION:1325 N A Street
END:VEVENT
BEGIN:VEVENT
DTSTART;TZID=America/New_York:20250515T190000
DTEND;TZID=America/New_York:20250515T200000
DTSTAMP:20260423T165707
CREATED:20250409T174719Z
LAST-MODIFIED:20250515T195959Z
UID:10001674-1747335600-1747339200@lakeworth.sunlightchurch.com
SUMMARY:Recovery Church
DESCRIPTION:
URL:https://lakeworth.sunlightchurch.com/calendar/recovery-church-6/
LOCATION:1325 N A Street
END:VEVENT
BEGIN:VEVENT
DTSTART;TZID=America/New_York:20250511T111500
DTEND;TZID=America/New_York:20250511T121500
DTSTAMP:20260423T165707
CREATED:20250409T174719Z
LAST-MODIFIED:20250510T194503Z
UID:10001672-1746962100-1746965700@lakeworth.sunlightchurch.com
SUMMARY:Sunlight Espanol
DESCRIPTION:
URL:https://lakeworth.sunlightchurch.com/calendar/sunlight-espanol-5/
LOCATION:1325 N A Street
END:VEVENT
BEGIN:VEVENT
DTSTART;TZID=America/New_York:20250508T190000
DTEND;TZID=America/New_York:20250508T200000
DTSTAMP:20260423T165707
CREATED:20250409T174718Z
LAST-MODIFIED:20250508T193002Z
UID:10001670-1746730800-1746734400@lakeworth.sunlightchurch.com
SUMMARY:Recovery Church
DESCRIPTION:
URL:https://lakeworth.sunlightchurch.com/calendar/recovery-church-5/
LOCATION:1325 N A Street
END:VEVENT
BEGIN:VEVENT
DTSTART;TZID=America/New_York:20250504T111500
DTEND;TZID=America/New_York:20250504T121500
DTSTAMP:20260423T165707
CREATED:20250409T174718Z
LAST-MODIFIED:20250503T193019Z
UID:10001669-1746357300-1746360900@lakeworth.sunlightchurch.com
SUMMARY:Sunlight Espanol
DESCRIPTION:
URL:https://lakeworth.sunlightchurch.com/calendar/sunlight-espanol-4/
LOCATION:1325 N A Street
END:VEVENT
BEGIN:VEVENT
DTSTART;TZID=America/New_York:20250501T190000
DTEND;TZID=America/New_York:20250501T200000
DTSTAMP:20260423T165707
CREATED:20250409T174718Z
LAST-MODIFIED:20250501T193048Z
UID:10001668-1746126000-1746129600@lakeworth.sunlightchurch.com
SUMMARY:Recovery Church
DESCRIPTION:
URL:https://lakeworth.sunlightchurch.com/calendar/recovery-church-4/
LOCATION:1325 N A Street
END:VEVENT
END:VCALENDAR