BEGIN:VCALENDAR
VERSION:2.0
PRODID:-//Sunlight Lake Worth - ECPv6.15.20//NONSGML v1.0//EN
CALSCALE:GREGORIAN
METHOD:PUBLISH
X-WR-CALNAME:Sunlight Lake Worth
X-ORIGINAL-URL:https://lakeworth.sunlightchurch.com
X-WR-CALDESC:Events for Sunlight Lake Worth
REFRESH-INTERVAL;VALUE=DURATION:PT1H
X-Robots-Tag:noindex
X-PUBLISHED-TTL:PT1H
BEGIN:VTIMEZONE
TZID:America/New_York
BEGIN:DAYLIGHT
TZOFFSETFROM:-0500
TZOFFSETTO:-0400
TZNAME:EDT
DTSTART:20230312T070000
END:DAYLIGHT
BEGIN:STANDARD
TZOFFSETFROM:-0400
TZOFFSETTO:-0500
TZNAME:EST
DTSTART:20231105T060000
END:STANDARD
BEGIN:DAYLIGHT
TZOFFSETFROM:-0500
TZOFFSETTO:-0400
TZNAME:EDT
DTSTART:20240310T070000
END:DAYLIGHT
BEGIN:STANDARD
TZOFFSETFROM:-0400
TZOFFSETTO:-0500
TZNAME:EST
DTSTART:20241103T060000
END:STANDARD
BEGIN:DAYLIGHT
TZOFFSETFROM:-0500
TZOFFSETTO:-0400
TZNAME:EDT
DTSTART:20250309T070000
END:DAYLIGHT
BEGIN:STANDARD
TZOFFSETFROM:-0400
TZOFFSETTO:-0500
TZNAME:EST
DTSTART:20251102T060000
END:STANDARD
END:VTIMEZONE
BEGIN:VEVENT
DTSTART;TZID=America/New_York:20241021T190000
DTEND;TZID=America/New_York:20241021T200000
DTSTAMP:20260424T173321
CREATED:20231113T124524Z
LAST-MODIFIED:20231115T132414Z
UID:10001141-1729537200-1729540800@lakeworth.sunlightchurch.com
SUMMARY:Alateen
DESCRIPTION:
URL:https://lakeworth.sunlightchurch.com/calendar/alateen-52/
LOCATION:Lighthouse Room
END:VEVENT
BEGIN:VEVENT
DTSTART;TZID=America/New_York:20241014T190000
DTEND;TZID=America/New_York:20241014T200000
DTSTAMP:20260424T173321
CREATED:20231113T124523Z
LAST-MODIFIED:20231115T132413Z
UID:10001134-1728932400-1728936000@lakeworth.sunlightchurch.com
SUMMARY:Alateen
DESCRIPTION:
URL:https://lakeworth.sunlightchurch.com/calendar/alateen-51/
LOCATION:Lighthouse Room
END:VEVENT
BEGIN:VEVENT
DTSTART;TZID=America/New_York:20241007T190000
DTEND;TZID=America/New_York:20241007T200000
DTSTAMP:20260424T173321
CREATED:20231113T124522Z
LAST-MODIFIED:20231115T132412Z
UID:10001128-1728327600-1728331200@lakeworth.sunlightchurch.com
SUMMARY:Alateen
DESCRIPTION:
URL:https://lakeworth.sunlightchurch.com/calendar/alateen-50/
LOCATION:Lighthouse Room
END:VEVENT
BEGIN:VEVENT
DTSTART;TZID=America/New_York:20240930T190000
DTEND;TZID=America/New_York:20240930T200000
DTSTAMP:20260424T173321
CREATED:20231113T124521Z
LAST-MODIFIED:20231115T132411Z
UID:10001123-1727722800-1727726400@lakeworth.sunlightchurch.com
SUMMARY:Alateen
DESCRIPTION:
URL:https://lakeworth.sunlightchurch.com/calendar/alateen-49/
LOCATION:Lighthouse Room
END:VEVENT
BEGIN:VEVENT
DTSTART;TZID=America/New_York:20240923T190000
DTEND;TZID=America/New_York:20240923T200000
DTSTAMP:20260424T173321
CREATED:20231113T124520Z
LAST-MODIFIED:20231115T132411Z
UID:10001116-1727118000-1727121600@lakeworth.sunlightchurch.com
SUMMARY:Alateen
DESCRIPTION:
URL:https://lakeworth.sunlightchurch.com/calendar/alateen-48/
LOCATION:Lighthouse Room
END:VEVENT
BEGIN:VEVENT
DTSTART;TZID=America/New_York:20240916T190000
DTEND;TZID=America/New_York:20240916T200000
DTSTAMP:20260424T173321
CREATED:20231113T124520Z
LAST-MODIFIED:20231115T132410Z
UID:10001110-1726513200-1726516800@lakeworth.sunlightchurch.com
SUMMARY:Alateen
DESCRIPTION:
URL:https://lakeworth.sunlightchurch.com/calendar/alateen-47/
LOCATION:Lighthouse Room
END:VEVENT
BEGIN:VEVENT
DTSTART;TZID=America/New_York:20240909T190000
DTEND;TZID=America/New_York:20240909T200000
DTSTAMP:20260424T173321
CREATED:20231113T124519Z
LAST-MODIFIED:20231115T132409Z
UID:10001105-1725908400-1725912000@lakeworth.sunlightchurch.com
SUMMARY:Alateen
DESCRIPTION:
URL:https://lakeworth.sunlightchurch.com/calendar/alateen-46/
LOCATION:Lighthouse Room
END:VEVENT
BEGIN:VEVENT
DTSTART;TZID=America/New_York:20240902T190000
DTEND;TZID=America/New_York:20240902T200000
DTSTAMP:20260424T173321
CREATED:20231113T124518Z
LAST-MODIFIED:20231115T132409Z
UID:10001099-1725303600-1725307200@lakeworth.sunlightchurch.com
SUMMARY:Alateen
DESCRIPTION:
URL:https://lakeworth.sunlightchurch.com/calendar/alateen-45/
LOCATION:Lighthouse Room
END:VEVENT
BEGIN:VEVENT
DTSTART;TZID=America/New_York:20240826T190000
DTEND;TZID=America/New_York:20240826T200000
DTSTAMP:20260424T173321
CREATED:20231113T124517Z
LAST-MODIFIED:20231115T132408Z
UID:10001092-1724698800-1724702400@lakeworth.sunlightchurch.com
SUMMARY:Alateen
DESCRIPTION:
URL:https://lakeworth.sunlightchurch.com/calendar/alateen-44/
LOCATION:Lighthouse Room
END:VEVENT
BEGIN:VEVENT
DTSTART;TZID=America/New_York:20240819T190000
DTEND;TZID=America/New_York:20240819T200000
DTSTAMP:20260424T173321
CREATED:20231113T124516Z
LAST-MODIFIED:20231115T132408Z
UID:10001086-1724094000-1724097600@lakeworth.sunlightchurch.com
SUMMARY:Alateen
DESCRIPTION:
URL:https://lakeworth.sunlightchurch.com/calendar/alateen-43/
LOCATION:Lighthouse Room
END:VEVENT
BEGIN:VEVENT
DTSTART;TZID=America/New_York:20240812T190000
DTEND;TZID=America/New_York:20240812T200000
DTSTAMP:20260424T173321
CREATED:20231113T124515Z
LAST-MODIFIED:20231115T132407Z
UID:10001080-1723489200-1723492800@lakeworth.sunlightchurch.com
SUMMARY:Alateen
DESCRIPTION:
URL:https://lakeworth.sunlightchurch.com/calendar/alateen-42/
LOCATION:Lighthouse Room
END:VEVENT
BEGIN:VEVENT
DTSTART;TZID=America/New_York:20240805T190000
DTEND;TZID=America/New_York:20240805T200000
DTSTAMP:20260424T173321
CREATED:20231113T124515Z
LAST-MODIFIED:20231115T132406Z
UID:10001074-1722884400-1722888000@lakeworth.sunlightchurch.com
SUMMARY:Alateen
DESCRIPTION:
URL:https://lakeworth.sunlightchurch.com/calendar/alateen-41/
LOCATION:Lighthouse Room
END:VEVENT
BEGIN:VEVENT
DTSTART;TZID=America/New_York:20240729T190000
DTEND;TZID=America/New_York:20240729T200000
DTSTAMP:20260424T173321
CREATED:20231113T124514Z
LAST-MODIFIED:20231115T132406Z
UID:10001068-1722279600-1722283200@lakeworth.sunlightchurch.com
SUMMARY:Alateen
DESCRIPTION:
URL:https://lakeworth.sunlightchurch.com/calendar/alateen-40/
LOCATION:Lighthouse Room
END:VEVENT
BEGIN:VEVENT
DTSTART;TZID=America/New_York:20240722T190000
DTEND;TZID=America/New_York:20240722T200000
DTSTAMP:20260424T173321
CREATED:20231113T124513Z
LAST-MODIFIED:20231115T132405Z
UID:10001062-1721674800-1721678400@lakeworth.sunlightchurch.com
SUMMARY:Alateen
DESCRIPTION:
URL:https://lakeworth.sunlightchurch.com/calendar/alateen-39/
LOCATION:Lighthouse Room
END:VEVENT
BEGIN:VEVENT
DTSTART;TZID=America/New_York:20240715T190000
DTEND;TZID=America/New_York:20240715T200000
DTSTAMP:20260424T173321
CREATED:20231113T124513Z
LAST-MODIFIED:20231115T132405Z
UID:10001057-1721070000-1721073600@lakeworth.sunlightchurch.com
SUMMARY:Alateen
DESCRIPTION:
URL:https://lakeworth.sunlightchurch.com/calendar/alateen-38/
LOCATION:Lighthouse Room
END:VEVENT
BEGIN:VEVENT
DTSTART;TZID=America/New_York:20240708T190000
DTEND;TZID=America/New_York:20240708T200000
DTSTAMP:20260424T173321
CREATED:20231113T124512Z
LAST-MODIFIED:20231115T132404Z
UID:10001051-1720465200-1720468800@lakeworth.sunlightchurch.com
SUMMARY:Alateen
DESCRIPTION:
URL:https://lakeworth.sunlightchurch.com/calendar/alateen-37/
LOCATION:Lighthouse Room
END:VEVENT
BEGIN:VEVENT
DTSTART;TZID=America/New_York:20240701T190000
DTEND;TZID=America/New_York:20240701T200000
DTSTAMP:20260424T173321
CREATED:20231113T124511Z
LAST-MODIFIED:20231115T132403Z
UID:10001044-1719860400-1719864000@lakeworth.sunlightchurch.com
SUMMARY:Alateen
DESCRIPTION:
URL:https://lakeworth.sunlightchurch.com/calendar/alateen-36/
LOCATION:Lighthouse Room
END:VEVENT
BEGIN:VEVENT
DTSTART;TZID=America/New_York:20240624T190000
DTEND;TZID=America/New_York:20240624T200000
DTSTAMP:20260424T173321
CREATED:20231113T124510Z
LAST-MODIFIED:20231115T132403Z
UID:10001038-1719255600-1719259200@lakeworth.sunlightchurch.com
SUMMARY:Alateen
DESCRIPTION:
URL:https://lakeworth.sunlightchurch.com/calendar/alateen-35/
LOCATION:Lighthouse Room
END:VEVENT
BEGIN:VEVENT
DTSTART;TZID=America/New_York:20240617T190000
DTEND;TZID=America/New_York:20240617T200000
DTSTAMP:20260424T173321
CREATED:20231113T124509Z
LAST-MODIFIED:20231115T132401Z
UID:10001032-1718650800-1718654400@lakeworth.sunlightchurch.com
SUMMARY:Alateen
DESCRIPTION:
URL:https://lakeworth.sunlightchurch.com/calendar/alateen-34/
LOCATION:Lighthouse Room
END:VEVENT
BEGIN:VEVENT
DTSTART;TZID=America/New_York:20240610T190000
DTEND;TZID=America/New_York:20240610T200000
DTSTAMP:20260424T173321
CREATED:20231113T124508Z
LAST-MODIFIED:20231115T132401Z
UID:10001027-1718046000-1718049600@lakeworth.sunlightchurch.com
SUMMARY:Alateen
DESCRIPTION:
URL:https://lakeworth.sunlightchurch.com/calendar/alateen-33/
LOCATION:Lighthouse Room
END:VEVENT
BEGIN:VEVENT
DTSTART;TZID=America/New_York:20240603T190000
DTEND;TZID=America/New_York:20240603T200000
DTSTAMP:20260424T173321
CREATED:20231113T124507Z
LAST-MODIFIED:20231115T132400Z
UID:10001020-1717441200-1717444800@lakeworth.sunlightchurch.com
SUMMARY:Alateen
DESCRIPTION:
URL:https://lakeworth.sunlightchurch.com/calendar/alateen-32/
LOCATION:Lighthouse Room
END:VEVENT
BEGIN:VEVENT
DTSTART;TZID=America/New_York:20240527T190000
DTEND;TZID=America/New_York:20240527T200000
DTSTAMP:20260424T173321
CREATED:20231113T124507Z
LAST-MODIFIED:20231115T132400Z
UID:10001014-1716836400-1716840000@lakeworth.sunlightchurch.com
SUMMARY:Alateen
DESCRIPTION:
URL:https://lakeworth.sunlightchurch.com/calendar/alateen-31/
LOCATION:Lighthouse Room
END:VEVENT
BEGIN:VEVENT
DTSTART;TZID=America/New_York:20240520T190000
DTEND;TZID=America/New_York:20240520T200000
DTSTAMP:20260424T173321
CREATED:20231113T124506Z
LAST-MODIFIED:20231115T132359Z
UID:10001008-1716231600-1716235200@lakeworth.sunlightchurch.com
SUMMARY:Alateen
DESCRIPTION:
URL:https://lakeworth.sunlightchurch.com/calendar/alateen-30/
LOCATION:Lighthouse Room
END:VEVENT
BEGIN:VEVENT
DTSTART;TZID=America/New_York:20240513T190000
DTEND;TZID=America/New_York:20240513T200000
DTSTAMP:20260424T173321
CREATED:20231113T124505Z
LAST-MODIFIED:20231115T132358Z
UID:10001002-1715626800-1715630400@lakeworth.sunlightchurch.com
SUMMARY:Alateen
DESCRIPTION:
URL:https://lakeworth.sunlightchurch.com/calendar/alateen-29/
LOCATION:Lighthouse Room
END:VEVENT
BEGIN:VEVENT
DTSTART;TZID=America/New_York:20240506T190000
DTEND;TZID=America/New_York:20240506T200000
DTSTAMP:20260424T173321
CREATED:20231113T124504Z
LAST-MODIFIED:20231115T132358Z
UID:10000996-1715022000-1715025600@lakeworth.sunlightchurch.com
SUMMARY:Alateen
DESCRIPTION:
URL:https://lakeworth.sunlightchurch.com/calendar/alateen-28/
LOCATION:Lighthouse Room
END:VEVENT
BEGIN:VEVENT
DTSTART;TZID=America/New_York:20240429T190000
DTEND;TZID=America/New_York:20240429T200000
DTSTAMP:20260424T173321
CREATED:20231113T124504Z
LAST-MODIFIED:20231115T132357Z
UID:10000991-1714417200-1714420800@lakeworth.sunlightchurch.com
SUMMARY:Alateen
DESCRIPTION:
URL:https://lakeworth.sunlightchurch.com/calendar/alateen-27/
LOCATION:Lighthouse Room
END:VEVENT
BEGIN:VEVENT
DTSTART;TZID=America/New_York:20240422T190000
DTEND;TZID=America/New_York:20240422T200000
DTSTAMP:20260424T173321
CREATED:20231113T124502Z
LAST-MODIFIED:20231115T132357Z
UID:10000984-1713812400-1713816000@lakeworth.sunlightchurch.com
SUMMARY:Alateen
DESCRIPTION:
URL:https://lakeworth.sunlightchurch.com/calendar/alateen-26/
LOCATION:Lighthouse Room
END:VEVENT
BEGIN:VEVENT
DTSTART;TZID=America/New_York:20240415T190000
DTEND;TZID=America/New_York:20240415T200000
DTSTAMP:20260424T173321
CREATED:20231113T124501Z
LAST-MODIFIED:20231115T132356Z
UID:10000978-1713207600-1713211200@lakeworth.sunlightchurch.com
SUMMARY:Alateen
DESCRIPTION:
URL:https://lakeworth.sunlightchurch.com/calendar/alateen-25/
LOCATION:Lighthouse Room
END:VEVENT
BEGIN:VEVENT
DTSTART;TZID=America/New_York:20240408T190000
DTEND;TZID=America/New_York:20240408T200000
DTSTAMP:20260424T173321
CREATED:20231113T124500Z
LAST-MODIFIED:20231115T132355Z
UID:10000972-1712602800-1712606400@lakeworth.sunlightchurch.com
SUMMARY:Alateen
DESCRIPTION:
URL:https://lakeworth.sunlightchurch.com/calendar/alateen-24/
LOCATION:Lighthouse Room
END:VEVENT
BEGIN:VEVENT
DTSTART;TZID=America/New_York:20240401T190000
DTEND;TZID=America/New_York:20240401T200000
DTSTAMP:20260424T173321
CREATED:20231113T124500Z
LAST-MODIFIED:20231115T132355Z
UID:10000967-1711998000-1712001600@lakeworth.sunlightchurch.com
SUMMARY:Alateen
DESCRIPTION:
URL:https://lakeworth.sunlightchurch.com/calendar/alateen-23/
LOCATION:Lighthouse Room
END:VEVENT
END:VCALENDAR